BEGIN:VCALENDAR
VERSION:2.0
PRODID:-//Kunstleben Berlin - das Kunstmagazin - ECPv4.9.13//NONSGML v1.0//EN
CALSCALE:GREGORIAN
METHOD:PUBLISH
X-WR-CALNAME:Kunstleben Berlin - das Kunstmagazin
X-ORIGINAL-URL:https://www.kunstleben-berlin.de
X-WR-CALDESC:Veranstaltungen im Kunstleben Berlin - das Kunstmagazin
BEGIN:VTIMEZONE
TZID:Europe/Berlin
BEGIN:DAYLIGHT
TZOFFSETFROM:+0100
TZOFFSETTO:+0200
TZNAME:CEST
DTSTART:20180325T010000
END:DAYLIGHT
BEGIN:STANDARD
TZOFFSETFROM:+0200
TZOFFSETTO:+0100
TZNAME:CET
DTSTART:20181028T010000
END:STANDARD
END:VTIMEZONE
BEGIN:VEVENT
DTSTART;VALUE=DATE:20180309
DTEND;VALUE=DATE:20180310
DTSTAMP:20260423T221902
CREATED:20180307T110518Z
LAST-MODIFIED:20260313T102307Z
UID:72228-1520553600-1520571600@www.kunstleben-berlin.de
SUMMARY:Künstlergespräch - Wolfgang Ullrich und Stefan Löffelhardt
DESCRIPTION:Wolfgang Ullrich\, geboren 1967 in München\, studierte ab 1986 Philosophie\, Kunstgeschichte\, Logik/Wissenschaftstheorie und Germanistik in München. Magister 1991 mit einer Arbeit über Richard Rorty; Dissertation 1994 über das Spätwerk Martin Heideggers. Danach freiberuflich tätig als Autor\, Dozent\, Berater. 1997 bis 2003 Assistent am Lehrstuhl für Kunstgeschichte\nder Akademie der Bildenden Künste München\, danach Gastprofessuren an der Hochschule für Bildende Künste Hamburg und an der Staatlichen Hochschule für Gestaltung Karlsruhe. Von 2006 bis 2015 Professor für Kunstwissenschaft und Medientheorie an der Staatlichen Hochschule für Gestaltung Karlsruhe. Seither freiberuflich tätig als Autor\, Kulturwissenschaftler und Berater. Wolfgang Ullrich lebt in Leipzig. \nStefan Löffelhardt wurde 1959 in Biberach geboren und studierte nach seiner Ausbildung zum Bildhauer an der Akademie der Bildende Künste München und an der Kunstakademie Düsseldorf\, wo er Meisterschüler bei Günther Uecker war. Löffelhardt erhielt unterschiedliche Stipendien\, darunter das Karl Schmidt-Rottluff Stipendium. Andere Studienaufenthalte führten ihn zum Beispiel nach Rom (Stipendium der Studienstiftung) und Venedig (Stipendium am deutschen Studienzentrum). Seine Werke wurden unter anderem im Mies van der Rohe Haus\, Berlin\, Kunstverein Schwerte\, Taxispalais\, Innsbruck\, Museum für Konkrete Kunst\, Ingolstadt\, Museum\nHaus Esters\, Krefeld\, und im Kunstverein Cuxhaven ausgestellt. Stefan Löffelhardt lebt in Düsseldorf. \n
URL:https://www.kunstleben-berlin.de/event/kuenstlergespraech-wolfgang-ullrich-und-stefan-loeffelhardt/
LOCATION:Aurel Scheibler\, Schöneberger Ufer 71\, Berlin\, 10785\, Deutschland
CATEGORIES:Begleitprogramm zur Ausstellung
GEO:52.50546;13.36426
X-APPLE-STRUCTURED-LOCATION;VALUE=URI;X-ADDRESS=Aurel Scheibler Schöneberger Ufer 71 Berlin 10785 Deutschland;X-APPLE-RADIUS=500;X-TITLE=Schöneberger Ufer 71:geo:13.36426,52.50546
END:VEVENT
END:VCALENDAR