BEGIN:VCALENDAR
VERSION:2.0
PRODID:-//Kunstleben Berlin - das Kunstmagazin - ECPv4.9.13//NONSGML v1.0//EN
CALSCALE:GREGORIAN
METHOD:PUBLISH
X-WR-CALNAME:Kunstleben Berlin - das Kunstmagazin
X-ORIGINAL-URL:https://www.kunstleben-berlin.de
X-WR-CALDESC:Veranstaltungen im Kunstleben Berlin - das Kunstmagazin
BEGIN:VTIMEZONE
TZID:Europe/Berlin
BEGIN:DAYLIGHT
TZOFFSETFROM:+0100
TZOFFSETTO:+0200
TZNAME:CEST
DTSTART:20250330T010000
END:DAYLIGHT
BEGIN:STANDARD
TZOFFSETFROM:+0200
TZOFFSETTO:+0100
TZNAME:CET
DTSTART:20251026T010000
END:STANDARD
BEGIN:DAYLIGHT
TZOFFSETFROM:+0100
TZOFFSETTO:+0200
TZNAME:CEST
DTSTART:20260329T010000
END:DAYLIGHT
BEGIN:STANDARD
TZOFFSETFROM:+0200
TZOFFSETTO:+0100
TZNAME:CET
DTSTART:20261025T010000
END:STANDARD
BEGIN:DAYLIGHT
TZOFFSETFROM:+0100
TZOFFSETTO:+0200
TZNAME:CEST
DTSTART:20270328T010000
END:DAYLIGHT
BEGIN:STANDARD
TZOFFSETFROM:+0200
TZOFFSETTO:+0100
TZNAME:CET
DTSTART:20271031T010000
END:STANDARD
END:VTIMEZONE
BEGIN:VEVENT
DTSTART;VALUE=DATE:20250101
DTEND;VALUE=DATE:20270102
DTSTAMP:20260423T080352
CREATED:20250506T135457Z
LAST-MODIFIED:20250506T140941Z
UID:112648-1735689600-1798847999@www.kunstleben-berlin.de
SUMMARY:Kunst in Berlin. 1880 – 1980 Dauerausstellung
DESCRIPTION:Der Rundgang ist eine Zeitreise durch Berlin: Kaiserreich\, Weimarer Republik\, nationalsozialistische Diktatur\, Neuanfang nach 1945\, Kalter Krieg in der geteilten Stadt und die sich im Schatten der Mauer in Ost und West entwickelnden alternativen Gesellschafts- und Lebensentwürfe. In Ost-Berlin bildete sich ab den späten 1970er Jahren eine alternative Kulturszene aus. In West-Berlin zogen die aggressiven Werke der Neuen Wilden ab Ende der 1970er Jahre erneut international Aufmerksamkeit auf die geteilte Stadt. \nTastmodelle\, ein taktiles Bodenleitsystem sowie ein Mediaguide mit Bildbeschreibungen und Hinweisen zur Wegeführung ermöglichen es\, die Kunst auf vielfältige Weise zu erleben. Blinden und sehbehinderten Menschen bietet sich damit ein barrierefreier Zugang in der Ausstellung. \n
URL:https://www.kunstleben-berlin.de/event/kunst-in-berlin-1880-1980-dauerausstellung/
LOCATION:Berlinische Galerie\, Alte Jakobstraße 124 – 128\, Berlin\, 10969
CATEGORIES:Ausstellung
ATTACH;FMTTYPE=image/jpeg:https://www.kunstleben-berlin.de/wp-content/uploads/2025/05/Fred-Thieler_Erzaehlung-fuer-W-Turner_1962_Berlinische-Galerie-scaled.jpg
GEO:52.5037618;13.3986995
X-APPLE-STRUCTURED-LOCATION;VALUE=URI;X-ADDRESS=Berlinische Galerie Alte Jakobstraße 124 – 128 Berlin 10969;X-APPLE-RADIUS=500;X-TITLE=Alte Jakobstraße 124 – 128:geo:13.3986995,52.5037618
END:VEVENT
END:VCALENDAR