BEGIN:VCALENDAR
VERSION:2.0
PRODID:-//Kunstleben Berlin - das Kunstmagazin - ECPv4.9.13//NONSGML v1.0//EN
CALSCALE:GREGORIAN
METHOD:PUBLISH
X-WR-CALNAME:Kunstleben Berlin - das Kunstmagazin
X-ORIGINAL-URL:https://www.kunstleben-berlin.de
X-WR-CALDESC:Veranstaltungen im Kunstleben Berlin - das Kunstmagazin
BEGIN:VTIMEZONE
TZID:Europe/Berlin
BEGIN:DAYLIGHT
TZOFFSETFROM:+0100
TZOFFSETTO:+0200
TZNAME:CEST
DTSTART:20260329T010000
END:DAYLIGHT
BEGIN:STANDARD
TZOFFSETFROM:+0200
TZOFFSETTO:+0100
TZNAME:CET
DTSTART:20261025T010000
END:STANDARD
END:VTIMEZONE
BEGIN:VEVENT
DTSTART;TZID=Europe/Berlin:20260302T190000
DTEND;TZID=Europe/Berlin:20260302T213000
DTSTAMP:20260423T093934
CREATED:20260126T205652Z
LAST-MODIFIED:20260126T205652Z
UID:114784-1772478000-1772487000@www.kunstleben-berlin.de
SUMMARY:KUNST UM 7 – DER KUNSTSALON … mit Lisa Zeitz
DESCRIPTION:\n\n\n\n\n\n\n\n\n\n\n\n\n\n\n\nNach inspirierenden Salon-Abenden mit Katharina Thalbach\, Bettina Rust und Judy Lybke setzt der Kunstsalon „Kunst um 7“ seine Reihe fort. In der kommenden Ausgabe ist Lisa Zeitz\, Chefredakteurin der WELTKUNST\, zu Gast. \nAls eine der profiliertesten Stimmen der deutschsprachigen Kunstberichterstattung verbindet sie fundierte Analyse mit großer Erzähllust. Ihre Einblicke in die internationale Kunstwelt\, den Kunstmarkt und die redaktionelle Praxis machen den Abend zu einem besonderen Gesprächsformat. \n\n\n\n\n\n\n\n\nWenn Ihr also neugierig seid auf ihr Insider-Wissen\, darauf wie jeden Monat ein so renommiertes Fachblatt entsteht\, wie der Alltag in der Redaktion aussieht und wie man bei all den Eindrücken aus Kunstwelt\, Markt und Museenden Überblick behält – dann ist es der richtige Abend für Euch! \nLisa Zeitz (geb. 1970 in Heidelberg) hat Kunstgeschichte studiert in Freiburg\, Florenz\, Venedig und München\, wo sie mit einer Dissertation über „Tizian und Federico Gonzaga. Kunstpatronage in Mantua im 16. Jahrhundert“ promovierte. Nach Praktika im Guggenheim Museum und im Museum of Modern Art verlegte sie ihren Wohnsitz für zehn Jahre ganz nach New York. Dort begann sie als Kunstmarkt-Korrespondentin für die Frankfurter Allgemeine Zeitung über die Galerienszene und das Auktionsgeschehen zu schreiben. Den Kunstmarkt lernte Lisa Zeitz auch aus anderen Perspektiven kennen\, bei ihrer Arbeit für die Kunstversicherung Axa Art Insurance und als New Yorker Repräsentantin der Villa Grisebach. Seit 2012 ist sie Chefredakteurin und produziert mit ihrem vierzehnköpfigen Team das 1927 in Berlin gegründete Monatsmagazin WELTKUNST\, sowie alle zwei Wochen die Fachzeitung „Kunst und Auktionen“ und das digitale Branchenbriefing Weltkunst Insider. Jede Woche verfasst Lisa Zeitz ihren Weltkunst-Newsletter\, und jeden Monat spricht sie im Podcast „Was macht die Kunst?“ mit Persönlichkeiten wie Valie Export\, Lars Eidinger\, Julie Mehretu oder Azu Nwagbogu. \nAnnette spricht mit Lisa Zeitz – über ihre ersten Kunstbegegnungen\, den täglichen Redaktionsbetrieb\, ihre persönlichen Lieblingskunstwerke und darüber\, warum Kunst manchmal klare Einordnung und Orientierung braucht. Freut Euch auf Einblicke hinter die Kulissen\, persönlicher Geschichten\, kluge Gedanken und wie immer genügend Zeit für Fragen und Austausch. \nWie immer rahmen wir den Abend mit Musik\, Getränken und kleinen Knabbereien ein. \nUnd es gibt für Alle auch eine Ausgabe der WELTKUNST. \nMusik: Der Wahlberliner Jonny Götze (Jahrgang 1962) stammt aus Nordrhein-Westfalen und wuchs in Baden-Württemberg auf. Er entdeckte schon früh seine Liebe zur Musik und spielte seine Instrumente ausschließlich nach Gehör. Zuerst Klavier und später Gitarre. Gelegenheit dazu gab es viele\, der Vater war Baptisten-Pastor und in den Kirchenräumen stand immer irgendwo ein Instrument herum. Auf dem Weg zu den Noten nahm der Autodidakt eine Ausfahrt und entschied: Es geht auch ohne Noten. Die erste Liebe\, der frühe Tod seines Vaters\, Trauer\, Freude und Glück\, Fragen und Antworten\, Unentschlossenheit und Entscheidungen. All das bekam durch die eigene Musik einen Raum\, eine Tiefe\, aber auch eine Fröhlichkeit. \nLocation: Hotel Art Nouveau – ein wunderschöner Altbau im Berliner Westen mit historischem Lift\, 21 individuell gestalteten Zimmern und drei stilvollen Veranstaltungsräumen\, die durch elegante Flügeltüren verbunden sind. Inhaber Ingo Bethke hat das Haus 2016 übernommen und mit großer Kunstleidenschaft sowie Sinn für Details in neuem Glanz erstrahlen lassen. \nIn dieser intimen\, geschmackvollen Atmosphäre begrüßen wir Gäste zu besonderen Begegnungen mit der Kunst – und den Menschen dahinter. \nHerzlichen Dank an unseren Getränkesponsor DELLNAT\, der Euch mit Sekt und Wein verwöhnen wird. \nAblauf des Abends \n18:30 Uhr · Einlass19:00 Uhr · Begrüßung & Gesprächca. 20:00 Uhr · Drinks\, Knabbereien & Austauschca. 21:30 Uhr · Ende der Veranstaltung \n\n\n\n\nKUNST UM 7 – DER KUNSTSALON … mit Lisa Zeitz\n\n\n\n\nGast des Abends: Lisa Zeitz\, Chefredakteurin der WELTKUNST\nMontag\, 2. März 202619:00 – 21:30 Uhr\n\nHotel Art Nouveau\, Berlin\n
URL:https://www.kunstleben-berlin.de/event/kunst-um-7-der-kunstsalon-mit-lisa-zeitz/
LOCATION:Berlin\, Deutschland
CATEGORIES:Ausstellung
ATTACH;FMTTYPE=image/jpeg:https://www.kunstleben-berlin.de/wp-content/uploads/2026/01/Kunst_um_7_Lisa_Zeitz_200kb.jpg
GEO:52.5200066;13.404954
END:VEVENT
END:VCALENDAR