BEGIN:VCALENDAR
VERSION:2.0
PRODID:-//Kunstleben Berlin - das Kunstmagazin - ECPv4.9.13//NONSGML v1.0//EN
CALSCALE:GREGORIAN
METHOD:PUBLISH
X-WR-CALNAME:Kunstleben Berlin - das Kunstmagazin
X-ORIGINAL-URL:https://www.kunstleben-berlin.de
X-WR-CALDESC:Veranstaltungen im Kunstleben Berlin - das Kunstmagazin
BEGIN:VTIMEZONE
TZID:Europe/Berlin
BEGIN:DAYLIGHT
TZOFFSETFROM:+0100
TZOFFSETTO:+0200
TZNAME:CEST
DTSTART:20170326T010000
END:DAYLIGHT
BEGIN:STANDARD
TZOFFSETFROM:+0200
TZOFFSETTO:+0100
TZNAME:CET
DTSTART:20171029T010000
END:STANDARD
END:VTIMEZONE
BEGIN:VEVENT
DTSTART;VALUE=DATE:20170908
DTEND;VALUE=DATE:20171011
DTSTAMP:20260423T234751
CREATED:20170901T074213Z
LAST-MODIFIED:20230810T053804Z
UID:70721-1504828800-1507611599@www.kunstleben-berlin.de
SUMMARY:Lars Fischer - SuperMouse
DESCRIPTION:Fischers Homunculi und Laborwesen stehen im Zeichen moderner Ambivalenz. In seinen Arbeiten setzt sich der Künstler mit der Verschmelzung des Zeitlichen und der Entgrenzung zwischen Mensch und Maschine\, Humanität und Technik auseinander.\nEröffnung ist am Freitag\, den 8. September 2017 ab 19.30 Uhr\, mit Dressup-Lounge im Basement von WildBerlin.\nDanach ist die Ausstellung immer von Mittwochs bis Samstags von 14 – 19 Uhr und nach Vereinbarung zu sehen.\nLars Fischer (* 1986 in Leipzig) studierte von 2011 bis 2014 an der Akademie der Bildenden Künste Nürnberg bei Thomas Hartmann und seit 2014 bei Thomas Zipp an der Universität der Künste Berlin. Als dessen Meisterschüler schloss er 2017 sein Studium ab.\nEr lebt und arbeitet in Berlin und Leipzig. \n
URL:https://www.kunstleben-berlin.de/event/lars-fischer-supermouse/
LOCATION:Galerie WildBerlin\, Bluecherstr. 37A\, Berlin\, 10961\, Deutschland
GEO:52.5376054;12.3588402
X-APPLE-STRUCTURED-LOCATION;VALUE=URI;X-ADDRESS=Galerie WildBerlin Bluecherstr. 37A Berlin 10961 Deutschland;X-APPLE-RADIUS=500;X-TITLE=Bluecherstr. 37A:geo:12.3588402,52.5376054
END:VEVENT
END:VCALENDAR