BEGIN:VCALENDAR
VERSION:2.0
PRODID:-//Kunstleben Berlin - das Kunstmagazin - ECPv4.9.13//NONSGML v1.0//EN
CALSCALE:GREGORIAN
METHOD:PUBLISH
X-WR-CALNAME:Kunstleben Berlin - das Kunstmagazin
X-ORIGINAL-URL:https://www.kunstleben-berlin.de
X-WR-CALDESC:Veranstaltungen im Kunstleben Berlin - das Kunstmagazin
BEGIN:VTIMEZONE
TZID:Europe/Berlin
BEGIN:DAYLIGHT
TZOFFSETFROM:+0100
TZOFFSETTO:+0200
TZNAME:CEST
DTSTART:20210328T010000
END:DAYLIGHT
BEGIN:STANDARD
TZOFFSETFROM:+0200
TZOFFSETTO:+0100
TZNAME:CET
DTSTART:20211031T010000
END:STANDARD
END:VTIMEZONE
BEGIN:VEVENT
DTSTART;VALUE=DATE:20210704
DTEND;VALUE=DATE:20210705
DTSTAMP:20260423T164827
CREATED:20210701T173941Z
LAST-MODIFIED:20221212T113840Z
UID:87311-1625356800-1625389200@www.kunstleben-berlin.de
SUMMARY:Layer Cake – The Versus Project
DESCRIPTION:Gemeinsam\, aber auf Abstand – so entstanden die Kunstwerke der neuen Ausstellung im Projektraum des URBAN NATION Museums. Das Münchner Künstlerduo Layer Cake – bestehend aus den Graffiti-Veteranen Patrick Hartl und Christian Hundertmark – hat in Kooperation mit dreizehn verschiedenen Künstlerinnen ebenso viele Werke erschaffen. In allen Arbeiten wird eine der wichtigsten Regeln des Graffiti auf den Kopf gestellt: Niemals über die Bilder anderer Writerinnen malen („no crossing“ / „not going over“). \nHundertmark und Hartl begannen in ihrem Atelier Leinwände zu bearbeiten\, die sie unfertig an die Gastkünstlerinnen schickten. Diese wiederum griffen in den malerischen Prozess ohne Absprache und mit ihren eigenen Stilen und Positionen ein. Sie reagierten\, erweiterten\, veränderten\, strichen und schickten die Arbeiten zurück. Schicht auf Schicht gestaltete sich ein dynamisches Spiel zwischen den Beteiligten bis eine gemeinsame Komposition gefunden wurde. \nIn der dritten Runde: Christian Hundertmark arbeitet auf einer Leinwand\, welche der Schweizer Künstler Bust mit seinen Erweiterungen zurückgesandt hat. \nLayer Cake\, Bust\, The Versus Project\, 2019.\nThe Versus Project ist künstlerisches Kommunikationsexperiment\, herausfordernder Dialog\, das Ringen um eine finale Form. Die Entstehung der Werke konnte bis zu zwei Jahre dauern. Was macht dieser Prozess mit der eigenen künstlerischen Erwartungshaltung und Praxis? Und wie weit geht die Akzeptanz und das gegenseitige Vertrauen\, das sich alle Teilnehmerinnen in diesem konzeptuellen Rahmen entgegenbringen müssen? \nLayer Cake beschreibt den Arbeitsprozess wie folgt: \n„Nach sechs Jahren Zusammenarbeit als Layer Cake war uns gar nicht mehr bewusst wie sehr man Künstlerinnen mit so einer kompromisslosen Zusammenarbeit aus der eigenen Komfortzone lockt. Für uns fühlt sich diese Art der kollaborativen Arbeit mittlerweile normal an\, doch für manche der Gastkünstlerinnen war das fast schon eine herausfordernde Grenzerfahrung.“ \nObgleich alle Künstlerinnen eine unterschiedliche Herangehensweise verfolgt haben – abstrakt\, figürlich oder formal – zeigt die finale Ausstellung gemeinsame Gesten und Interessen und vermittelt so Verbindungen untereinander. The Versus Project ist auch ein Versuch über Freundschaft und Beziehungen innerhalb des eigenen Netzwerks. \nTeilnehmende Künstler*innen\nLayer Cake (Patrick Hartl und Christian Hundertmark aka C100)\, Chaz Bojorquez (Los Angeles / US)\, Mick La Rock / Aileen Middel (Amsterdam / NL)\, Sebastian Wandl (München / DE)\, Dave the Chimp (Berlin / DE)\, Bisco Smith (New York / US)\, Vincent Abadie Hafez (Zepha) (Toulouse / FR)\, Formula 76 (Hamburg / DE)\, Usugrow (Tokio / JP)\, Bust (Basel / CH)\, Jake (Amsterdam / NL)\, Egs (Helsinki / FI)\, Imaone (Tokio / JP) und Flavien (Apt / FR). \nÜber URBAN NATION\nDas URBAN NATION Museum ist eine einzigartige Institution zur Ausstellung\, Förderung und Dokumentation von Urban und Street Art. Wir konzipieren\, kreieren und realisieren Ausstellungen – im Museum und im öffentlichen Raum. Die im Museum beheimatete Martha Cooper Library ist außerdem eine der weltweit führenden Institutionen für die Archivierung und Geschichte der Urban Art und ein Ort zur Vernetzung von Wissenschaftler*innen\, Kurator*innen und Künstler*innen. Das URBAN NATION Museum ist ein Projekt der Stiftung Berliner Leben\, eine Stiftung des landeseigenen Wohnungsbauunternehmens Gewobag\, die mit Projekten der Bildung\, Kunst und Integration Verantwortung für die Stadt übernimmt und sich langfristig für lebenswerte Quartiere der Berliner Stadtgesellschaft einsetzt. Entsprechend dieses gesellschaftspolitischen Auftrags fördert das Museum mit seinen Kulturvermittlungs- und Bildungsprojekten Kinder und Jugendliche in Berliner Quartieren. \nBeitragsbild: Layer Cake\, Mick La Rock\, The Versus Project\, Mixed Media on Canvas\, 2020  \nLayer Cake – The Versus Project\n4. Juli – 31. Dezember 2021\nProjektraum des URBAN NATION Museums\n
URL:https://www.kunstleben-berlin.de/event/layer-cake-the-versus-project/
LOCATION:Berlin\, Deutschland
CATEGORIES:Ausstellung
ATTACH;FMTTYPE=image/jpeg:https://www.kunstleben-berlin.de/wp-content/uploads/2021/06/Urban-Nation.jpg
END:VEVENT
END:VCALENDAR