BEGIN:VCALENDAR
VERSION:2.0
PRODID:-//Kunstleben Berlin - das Kunstmagazin - ECPv4.9.13//NONSGML v1.0//EN
CALSCALE:GREGORIAN
METHOD:PUBLISH
X-WR-CALNAME:Kunstleben Berlin - das Kunstmagazin
X-ORIGINAL-URL:https://www.kunstleben-berlin.de
X-WR-CALDESC:Veranstaltungen im Kunstleben Berlin - das Kunstmagazin
BEGIN:VTIMEZONE
TZID:Europe/Berlin
BEGIN:DAYLIGHT
TZOFFSETFROM:+0100
TZOFFSETTO:+0200
TZNAME:CEST
DTSTART:20250330T010000
END:DAYLIGHT
BEGIN:STANDARD
TZOFFSETFROM:+0200
TZOFFSETTO:+0100
TZNAME:CET
DTSTART:20251026T010000
END:STANDARD
BEGIN:DAYLIGHT
TZOFFSETFROM:+0100
TZOFFSETTO:+0200
TZNAME:CEST
DTSTART:20260329T010000
END:DAYLIGHT
BEGIN:STANDARD
TZOFFSETFROM:+0200
TZOFFSETTO:+0100
TZNAME:CET
DTSTART:20261025T010000
END:STANDARD
END:VTIMEZONE
BEGIN:VEVENT
DTSTART;VALUE=DATE:20251016
DTEND;VALUE=DATE:20260119
DTSTAMP:20260423T194025
CREATED:20251109T194421Z
LAST-MODIFIED:20251109T194421Z
UID:114251-1760572800-1768780799@www.kunstleben-berlin.de
SUMMARY:Ligia Lewis: I’M NOT HERE FORRRRR…
DESCRIPTION:Mit I’M NOT HERE FORRRRR… zeigt der Gropius Bau die bisher größte Einzelausstellung der Künstlerin und Choreografin Ligia Lewis. Die Ausstellung umfasst neue und bereits existierende Arbeiten\, die im Erdgeschoss sowie im Lichthof des Gropius Bau zu sehen sein werden. \nZur Performance Wayward Chant\, die im Rahmen der Performing Arts Season am 28. und 29. November im Gropius Bau gezeigt wird. \nLigia Lewis lebt seit 2013 in Berlin und hat eine vielschichtige choreografische Praxis entwickelt\, die Performance\, Live-Installation und Film miteinander verbindet. Lewis begreift Choreografie als die Bewegung von Ideen durch Körper\, welche sie minutiös entwirft\, ausgestaltet und inszeniert\, sowie als politischen Akt: ein Anschreiben gegen die Rassismen von auf Repräsentation beruhenden Systemen und gegen das Auslöschen Schwarzer Stimmen. Ihre Arbeiten kreisen um Themen wie Race\, Gender\, Gewalt und Widerstand und untersuchen\, wie diese Dynamiken unsere Gegenwart immer wieder heimsuchen und prägen. \nI’M NOT HERE FORRRRR… umfasst auch die neue Arbeit Wayward Chant\, die speziell für den Lichthof des Gropius Bau konzipiert wird. Im Laufe der Ausstellung entwickelt sich die Arbeit im Raum stetig weiter und kulminiert in zwei abendfüllenden Performances mit dem gleichen Titel\, die am 28. und 29. November im Rahmen der Performing Arts Season Premiere feiern. \nMit ihrer umfangreichen interdisziplinären Praxis zählt Ligia Lewis zu den zentralen Protagonist*innen einer Neuausrichtung von Performance im Kontext Bildender Kunst und ist Artist in Focus der Berliner Festspiele 2025. \nBeitragsbild: Ligia Lewis\, A Plot\, A Scandal\, Filmstill\, 2023 © Ligia Lewis \nLigia Lewis: I’M NOT HERE FORRRRR…\n16.10.2025 – 18.1.2026 \nGropius Bau \n
URL:https://www.kunstleben-berlin.de/event/ligia-lewis-im-not-here-forrrrr/
LOCATION:Gropius Bau\, Niederkirchnerstraße 7\, Berlin\, 10963\, Deutschland
CATEGORIES:Ausstellung
ATTACH;FMTTYPE=image/jpeg:https://www.kunstleben-berlin.de/wp-content/uploads/2025/11/Ligia-Lewis.jpg
GEO:52.5070801;13.381871
X-APPLE-STRUCTURED-LOCATION;VALUE=URI;X-ADDRESS=Gropius Bau Niederkirchnerstraße 7 Berlin 10963 Deutschland;X-APPLE-RADIUS=500;X-TITLE=Niederkirchnerstraße 7:geo:13.381871,52.5070801
END:VEVENT
END:VCALENDAR