BEGIN:VCALENDAR
VERSION:2.0
PRODID:-//Kunstleben Berlin - das Kunstmagazin - ECPv4.9.13//NONSGML v1.0//EN
CALSCALE:GREGORIAN
METHOD:PUBLISH
X-WR-CALNAME:Kunstleben Berlin - das Kunstmagazin
X-ORIGINAL-URL:https://www.kunstleben-berlin.de
X-WR-CALDESC:Veranstaltungen im Kunstleben Berlin - das Kunstmagazin
BEGIN:VTIMEZONE
TZID:Europe/Berlin
BEGIN:DAYLIGHT
TZOFFSETFROM:+0100
TZOFFSETTO:+0200
TZNAME:CEST
DTSTART:20260329T010000
END:DAYLIGHT
BEGIN:STANDARD
TZOFFSETFROM:+0200
TZOFFSETTO:+0100
TZNAME:CET
DTSTART:20261025T010000
END:STANDARD
END:VTIMEZONE
BEGIN:VEVENT
DTSTART;VALUE=DATE:20260214
DTEND;VALUE=DATE:20260419
DTSTAMP:20260423T080305
CREATED:20260202T134126Z
LAST-MODIFIED:20260202T162810Z
UID:114872-1771027200-1776556799@www.kunstleben-berlin.de
SUMMARY:Matt Mullican: Above and Below the Three Worlds
DESCRIPTION:Galerie Thomas Schulte präsentiert Above and Below the Three Worlds\, eine umfassende Einzelausstellung mit Papierarbeiten\, Abrieben und Objekten von Matt Mullican. Vertraute Systeme zur Ordnung und Darstellung von Information und Wissen – darunter Diagramme\, Modelle und Pinnwände – verbinden sich mit idiosynkratischen Systemen\, die den Kern von Mullicans künstlerischer Praxis bilden. Sein Einsatz von Primärfarben und einfachen Formen\, insbesondere des Kreises oder der Kugel\, tritt deutlich hervor\, während die anfängliche Lesbarkeit einer zugrunde liegenden Komplexität weicht. Mullican entwickelt seine Kosmologie sowie sein System von Zeichen und Symbolen seit den 1970er-Jahren. In der Ausstellung werden frühe Arbeiten auf Papier neben jüngeren Abrieben gezeigt\, die Kontinuitäten und die fortschreitende Ausarbeitung einer über mehrere Ebenen strukturierten Realität sichtbar machen – verdichtet und ausgreifend\, zutiefst persönlich und zugleich umfassend. \n
URL:https://www.kunstleben-berlin.de/event/matt-mullican-above-and-below-the-three-worlds/
LOCATION:Galerie Thomas Schulte Potsdamer Straße\, Mercator Höfe\, Potsdamer Str. 81B\, erster Stock\, Berlin\, 10785
CATEGORIES:Ausstellung
ATTACH;FMTTYPE=image/jpeg:https://www.kunstleben-berlin.de/wp-content/uploads/2026/02/Galerie-Thomas-Schulte_Matt-Mullican_Untitled-double-sided-1835-2025.jpg
GEO:52.5021483;13.3660343
X-APPLE-STRUCTURED-LOCATION;VALUE=URI;X-ADDRESS=Galerie Thomas Schulte Potsdamer Straße Mercator Höfe Potsdamer Str. 81B erster Stock Berlin 10785;X-APPLE-RADIUS=500;X-TITLE=Mercator Höfe\, Potsdamer Str. 81B\, erster Stock:geo:13.3660343,52.5021483
END:VEVENT
END:VCALENDAR