BEGIN:VCALENDAR
VERSION:2.0
PRODID:-//Kunstleben Berlin - das Kunstmagazin - ECPv4.9.13//NONSGML v1.0//EN
CALSCALE:GREGORIAN
METHOD:PUBLISH
X-WR-CALNAME:Kunstleben Berlin - das Kunstmagazin
X-ORIGINAL-URL:https://www.kunstleben-berlin.de
X-WR-CALDESC:Veranstaltungen im Kunstleben Berlin - das Kunstmagazin
BEGIN:VTIMEZONE
TZID:Europe/Berlin
BEGIN:DAYLIGHT
TZOFFSETFROM:+0100
TZOFFSETTO:+0200
TZNAME:CEST
DTSTART:20240331T010000
END:DAYLIGHT
BEGIN:STANDARD
TZOFFSETFROM:+0200
TZOFFSETTO:+0100
TZNAME:CET
DTSTART:20241027T010000
END:STANDARD
END:VTIMEZONE
BEGIN:VEVENT
DTSTART;VALUE=DATE:20240821
DTEND;VALUE=DATE:20240822
DTSTAMP:20260423T202550
CREATED:20240809T111112Z
LAST-MODIFIED:20260313T102012Z
UID:107465-1724198400-1724284799@www.kunstleben-berlin.de
SUMMARY:Meet the Artist: Leiko Ikemura Deutsche Bank Collection live.
DESCRIPTION:Deutsche Bank Collection live \nInspiration für ihre Kunst findet Ikemura ebenso bei alten japanischen Meistern wie auch im Surrealismus\, der Nachkriegsmoderne und der figurativen Malerei der 1980er-Jahre. Ihre Arbeiten zeigen hybride\, mythologische Wesen\, Mädchen und Frauen\, die sich im Übergang zwischen Mensch\, Tier\, und Pflanze befinden. Immer geht es auch um psychologische\, gesellschaftliche und spirituelle Zustände sowie das Verhältnis zwischen Zivilisation und Natur. \nMit Leiko Ikemura spricht Britta Färber\, Leiterin des Kunst- und Kulturbereichs der Deutschen Bank über ihre künstlerische Praxis im Allgemeinen und die vom PalaisPopulaire unter dem Titel „With Blue Birds“ präsentierten Werke im Besonderen. \n
URL:https://www.kunstleben-berlin.de/event/meet-the-artist-leiko-ikemura-deutsche-bank-collection-live/
LOCATION:PalaisPopulaire\, Unter den Linden 5\, Berlin\, 10117\, Deutschland
CATEGORIES:Begleitprogramm zur Ausstellung
ATTACH;FMTTYPE=image/jpeg:https://www.kunstleben-berlin.de/wp-content/uploads/2024/08/BF-LI-850x570-1.jpg
GEO:52.5166343;13.3962165
X-APPLE-STRUCTURED-LOCATION;VALUE=URI;X-ADDRESS=PalaisPopulaire Unter den Linden 5 Berlin 10117 Deutschland;X-APPLE-RADIUS=500;X-TITLE=Unter den Linden 5:geo:13.3962165,52.5166343
END:VEVENT
END:VCALENDAR