BEGIN:VCALENDAR
VERSION:2.0
PRODID:-//Kunstleben Berlin - das Kunstmagazin - ECPv4.9.13//NONSGML v1.0//EN
CALSCALE:GREGORIAN
METHOD:PUBLISH
X-WR-CALNAME:Kunstleben Berlin - das Kunstmagazin
X-ORIGINAL-URL:https://www.kunstleben-berlin.de
X-WR-CALDESC:Veranstaltungen im Kunstleben Berlin - das Kunstmagazin
BEGIN:VTIMEZONE
TZID:Europe/Berlin
BEGIN:DAYLIGHT
TZOFFSETFROM:+0100
TZOFFSETTO:+0200
TZNAME:CEST
DTSTART:20260329T010000
END:DAYLIGHT
BEGIN:STANDARD
TZOFFSETFROM:+0200
TZOFFSETTO:+0100
TZNAME:CET
DTSTART:20261025T010000
END:STANDARD
END:VTIMEZONE
BEGIN:VEVENT
DTSTART;VALUE=DATE:20260313
DTEND;VALUE=DATE:20260504
DTSTAMP:20260423T234659
CREATED:20260128T114852Z
LAST-MODIFIED:20260128T114852Z
UID:114831-1773360000-1777766400@www.kunstleben-berlin.de
SUMMARY:Memory Is a Strange Bell
DESCRIPTION:Der Neue Berliner Kunstverein (n.b.k.) und das Künstlerhaus Bethanien präsentieren gemeinsam Arbeiten von Künstler*innen\, die 2025 mit dem Arbeitsstipendium Bildende Kunst des Berliner Senats ausgezeichnet wurden. Die Ausstellung wird parallel in beiden Häusern realisiert und versammelt jeweils internationale künstlerische Positionen von in Berlin lebenden und arbeitenden Künstler*innen. Sie macht einmal mehr deutlich\, welche zentrale Rolle verlässliche Förderstrukturen für die Produktion und Vermittlung zeitgenössischer Kunst einnehmen. Die gezeigten Positionen verbindet eine Auseinandersetzung mit gesellschaftlichen\, politischen und historischen Fragestellungen sowie die kritische Reflexion von Machtverhältnissen\, Normen und Ideologien. Gleichzeitig umspannen sie ein breites Spektrum an ästhetischen Ausdrucksformen. \nAusstellungen:\nNeuer Berliner Kunstverein\, Chausseestraße 128/129\, 10115 Berlin\nEröffnung: Freitag\, 13. März 2026\, 19 Uhr\nLaufzeit: 14. März – 3. Mai 2026\nKünstler*innen: Nadja Buttendorf\, Markus Draper\, Martin Eberle\, Noi Fuhrer\, Shaun Motsi\, Leonie Nagel\nKuratorin: Lidiya Anastasova\nwww.nbk.org \nKünstlerhaus Bethanien\, Kottbusser Str. 10/d\, 10999 Berlin\nEröffnung: Donnerstag\, 19. März 2026\, 19 Uhr\nLaufzeit: 20. März – 17. Mai 2026\nKünstler*innen: Ipek Burçak\, Olga Monina\, Ania Nowak\, Niclas Riepshoff\, Max Schaffer\, Alina Schmuch\, Antje Taubert\, Sergio Zevallos\nKuratorin: Antje Weitzel\nwww.bethanien.de \nEin Projekt des Neuer Berliner Kunstvereins (n.b.k.) in Kooperation mit dem Künstlerhaus Bethanien.\nDie Ausstellung wird gefördert durch die Berliner Senatsverwaltung für Kultur und Gesellschaftlichen Zusammenhalt. \n
URL:https://www.kunstleben-berlin.de/event/memory-is-a-strange-bell/
LOCATION:Neuer Berliner Kunstverein (n.b.k.)\, Chausseestrasse 128 / 129\, Berlin\, 10115\, Deutschland
CATEGORIES:Ausstellung
ATTACH;FMTTYPE=image/jpeg:https://www.kunstleben-berlin.de/wp-content/uploads/2026/01/small_MartinEberle_berlin-007-2_RGB_16bit_40cm.jpg
GEO:52.5279246;13.3860624
X-APPLE-STRUCTURED-LOCATION;VALUE=URI;X-ADDRESS=Neuer Berliner Kunstverein (n.b.k.) Chausseestrasse 128 / 129 Berlin 10115 Deutschland;X-APPLE-RADIUS=500;X-TITLE=Chausseestrasse 128 / 129:geo:13.3860624,52.5279246
END:VEVENT
END:VCALENDAR