BEGIN:VCALENDAR
VERSION:2.0
PRODID:-//Kunstleben Berlin - das Kunstmagazin - ECPv4.9.13//NONSGML v1.0//EN
CALSCALE:GREGORIAN
METHOD:PUBLISH
X-WR-CALNAME:Kunstleben Berlin - das Kunstmagazin
X-ORIGINAL-URL:https://www.kunstleben-berlin.de
X-WR-CALDESC:Veranstaltungen im Kunstleben Berlin - das Kunstmagazin
BEGIN:VTIMEZONE
TZID:Europe/Berlin
BEGIN:DAYLIGHT
TZOFFSETFROM:+0100
TZOFFSETTO:+0200
TZNAME:CEST
DTSTART:20190331T010000
END:DAYLIGHT
BEGIN:STANDARD
TZOFFSETFROM:+0200
TZOFFSETTO:+0100
TZNAME:CET
DTSTART:20191027T010000
END:STANDARD
END:VTIMEZONE
BEGIN:VEVENT
DTSTART;VALUE=DATE:20190426
DTEND;VALUE=DATE:20190430
DTSTAMP:20260423T151125
CREATED:20190417T071018Z
LAST-MODIFIED:20230420T054411Z
UID:77010-1556236800-1556513999@www.kunstleben-berlin.de
SUMMARY:NACHEINANDER . NEBENEINANDER - eine Ausstellungsaktion in zwei Räumen
DESCRIPTION:Zum diesjährigen Gallery Weekend laden die 13 KünstlerInnen der Galerie ep.contemporary mit einer besonderen Aktion ein: \nNACHEINANDER . NEBENEINANDER\neine Ausstellungsaktion in zwei Räumen \nFür 26 Stunden präsentieren die 13 KünstlerInnen der Galerie ep.contemporary NACHEINANDER je eine Arbeit für jeweils 2 Stunden. \nIm Zeitplan ist dieser Ablauf für die Wand ersichtlich: \nFr 26.4.\nChristian Buchloh/ Malerei 15-17:00\nDorothea Schutsch/ Malerei 17-19:00\ngeorgia Krawiec/ Fotografie 19-21:00\nBéatrice Nicolas/ Zeichnung 21-23:00 \nSa 27.4.\nUschi Krempel/ Druckgrafik 12-14:00\nAnna Roberta Vattes/ Zeichnung 14-16:00\nJochen Schneider/ Zeichnung 16-18:00\nOphelia Beckmann/ Fotografie 18-20:00\nAngela Bröhan/ Fotografie 20-22:00 \nSo 28.4.\nMatthias Hagemann/ Fotografie 12-14:00\nMartina Reichelt/ Zeichnung 14-16:00\nSabine Wild/ Fotografie 16-18:00\nRegine Spangenthal/ Malerei 18-20:00 \nGleichzeitig zeigen die 13 KünstlerInnen 26 Stunden an drei Tagen NEBENEINANDER je eine Arbeit im kleineren Raum der Galerie. \nDie KünstlerInnen sind zu ihren jeweiligen Ausstellungszeiten im NACHEINANDER anwesend und freuen sich auf Gespräche mit Ihnen! \nFr. 26.04. 15:00-23:00; Sa. 27.04. 12:00-22:00; So. 28.04. 12:00-20:00 \n
URL:https://www.kunstleben-berlin.de/event/nacheinander-nebeneinander-eine-ausstellungsaktion-in-zwei-raeumen/
LOCATION:ep.contemporary\, Pohlstr. 71\, Berlin\, 10785\, Deutschland
GEO:52.5008865;13.3626609
X-APPLE-STRUCTURED-LOCATION;VALUE=URI;X-ADDRESS=ep.contemporary Pohlstr. 71 Berlin 10785 Deutschland;X-APPLE-RADIUS=500;X-TITLE=Pohlstr. 71:geo:13.3626609,52.5008865
END:VEVENT
END:VCALENDAR