BEGIN:VCALENDAR
VERSION:2.0
PRODID:-//Kunstleben Berlin - das Kunstmagazin - ECPv4.9.13//NONSGML v1.0//EN
CALSCALE:GREGORIAN
METHOD:PUBLISH
X-WR-CALNAME:Kunstleben Berlin - das Kunstmagazin
X-ORIGINAL-URL:https://www.kunstleben-berlin.de
X-WR-CALDESC:Veranstaltungen im Kunstleben Berlin - das Kunstmagazin
BEGIN:VTIMEZONE
TZID:Europe/Berlin
BEGIN:DAYLIGHT
TZOFFSETFROM:+0100
TZOFFSETTO:+0200
TZNAME:CEST
DTSTART:20260329T010000
END:DAYLIGHT
BEGIN:STANDARD
TZOFFSETFROM:+0200
TZOFFSETTO:+0100
TZNAME:CET
DTSTART:20261025T010000
END:STANDARD
END:VTIMEZONE
BEGIN:VEVENT
DTSTART;VALUE=DATE:20260306
DTEND;VALUE=DATE:20260426
DTSTAMP:20260423T094908
CREATED:20260204T104856Z
LAST-MODIFIED:20260215T161246Z
UID:114901-1772755200-1777161599@www.kunstleben-berlin.de
SUMMARY:Nähe als Zustand - Menschenbilder von Matthias Gálvez
DESCRIPTION:Matthias Gálvez’ Malerei verhandelt Nähe nicht als erzählerisches Motiv\, sondern als Zustand. In seinen aktuellen Arbeiten treten Figuren in unmittelbare Beziehung zueinander – und zum Betrachtenden. Gruppenszenen\, Porträts und Selbstbilder erscheinen als verdichtete Konstellationen psychischer und körperlicher Präsenz. \nDie dargestellten Situationen wirken vertraut in ihrer Alltäglichkeit\, bleiben jedoch ambivalent und offen. Gesten\, Blicke und Haltungen erzeugen Spannungen\, ohne sich eindeutig aufzulösen. Gálvez komponiert seine Bildräume aus fragmentierten\, teils abstrakten Segmenten\, die die Wahrnehmung der dargestellten Realität verschieben und irritieren.\nNähe entsteht hier nicht durch Intimität im klassischen Sinne\, sondern durch Konfrontation. Die Figuren behaupten ihre Präsenz als Gegenüber – unmittelbar\, ungeschützt\, und ohne Distanz.\nEröffnung am 5. März 2026\, 19 Uhr. Es spricht Dr. Ellen Markgraf\, Kassel \n
URL:https://www.kunstleben-berlin.de/event/naehe-als-zustand-menschenbilder-von-matthias-galvez/
LOCATION:C&B Reichert Galerie\, Fasanenstraße 29 (Passage)\, Berlin\, 10719
CATEGORIES:Ausstellung
ATTACH;FMTTYPE=image/jpeg:https://www.kunstleben-berlin.de/wp-content/uploads/2026/02/Title.jpg
GEO:52.5008497;13.3265131
X-APPLE-STRUCTURED-LOCATION;VALUE=URI;X-ADDRESS=C&B Reichert Galerie Fasanenstraße 29 (Passage) Berlin 10719;X-APPLE-RADIUS=500;X-TITLE=Fasanenstraße 29 (Passage):geo:13.3265131,52.5008497
END:VEVENT
END:VCALENDAR