BEGIN:VCALENDAR
VERSION:2.0
PRODID:-//Kunstleben Berlin - das Kunstmagazin - ECPv4.9.13//NONSGML v1.0//EN
CALSCALE:GREGORIAN
METHOD:PUBLISH
X-WR-CALNAME:Kunstleben Berlin - das Kunstmagazin
X-ORIGINAL-URL:https://www.kunstleben-berlin.de
X-WR-CALDESC:Veranstaltungen im Kunstleben Berlin - das Kunstmagazin
BEGIN:VTIMEZONE
TZID:Europe/Berlin
BEGIN:DAYLIGHT
TZOFFSETFROM:+0100
TZOFFSETTO:+0200
TZNAME:CEST
DTSTART:20230326T010000
END:DAYLIGHT
BEGIN:STANDARD
TZOFFSETFROM:+0200
TZOFFSETTO:+0100
TZNAME:CET
DTSTART:20231029T010000
END:STANDARD
END:VTIMEZONE
BEGIN:VEVENT
DTSTART;VALUE=DATE:20230811
DTEND;VALUE=DATE:20230827
DTSTAMP:20260423T194940
CREATED:20230719T102246Z
LAST-MODIFIED:20230724T124205Z
UID:100346-1691712000-1693094399@www.kunstleben-berlin.de
SUMMARY:NEOCON – After Effects. Neurotitan Galerie.
DESCRIPTION:„It’s hard to have patience when you’re waiting on luck“ –– Kara Jackson 2022 \nIm Jahr 2007 gründete eine Gruppe von Kunststudenten:innen bzw. -absolvent:innen ein Netzwerk\, das stets aufs Neue Projekträume schuf und somit immer wieder neue Orte der Kunstpräsentation erschloss. Unter dem damals kontroversen Namen Neocon\, der von den Neu-Konservativen in den USA abgeleitet und zum neu-kontemporären umgedeutet wurde\, konnten diverse Ausstellungsprojekte\, Messebeteiligungen\, Publikationen und Aktionen in Kaiserslautern\, Karlsruhe\, Wien\, Frankfurt\, Haifa und Berlin realisiert werden. \nNach mehreren Jahren implodierte Neocon aus Mangel an ständig verfügbaren Ausstellungsräumen\, hoher Organisationsbelastung und familiären und persönlichen Entwicklungen. Ein informelles Netzwerk blieb allerdings bis zum heutigen Tag bestehen. \nNEOCON AFTER EFFECTS untersucht nun die künstlerischen und gesellschaftlichen Entwicklungen der letzten 15 Jahre\, sowohl durch das Gegenüberstellen von Arbeiten aus den Anfängen des Netzwerks mit aktuellen Werken als auch durch das Get-together von First Wave Neocon Artists mit neuen Kontakten und Positionen. Dabei wird eine Bandbreite von Bereichen\, wie etwa Malerei\, Skulptur\, Installation\, Video und Fotografie präsentiert. \nDie Galerie neurotitan sehen wir als eine Art Homecoming an\, fanden doch alle Neocon-Ausstellungen in Berlin in der Privatwohnung der neurotitan-Mitarbeiterin Sandra Dick im Prenzlauer Berg statt.\nEin Katalog ist in Planung. \nTeilnehmende Künstler:innen\nAngelika Arendt\, Andreas Becker\, Christina Gay\, Stefanie Grammetbauer\, Grischa Kaczmarek\, Lea & Adrian\, Wolfgang Lugmair\, Philipp Karl Moritz\, Linda Reif\, Christian Schmuck\, Tinka Stock\, Felix Toth \nZum Live-Act am 11. August 2023:\nA FUTURISTIC AID afuturisticaid.bandcamp.com \n
URL:https://www.kunstleben-berlin.de/event/neocon-after-effects/
LOCATION:Neurotitan Galerie\, Rosenthaler Straße 39\, Berlin\, 10178\, Deutschland
CATEGORIES:Ausstellung
ATTACH;FMTTYPE=image/jpeg:https://www.kunstleben-berlin.de/wp-content/uploads/2023/07/A.Becker_after-effects.jpg
GEO:52.5242301;13.4026456
X-APPLE-STRUCTURED-LOCATION;VALUE=URI;X-ADDRESS=Neurotitan Galerie Rosenthaler Straße 39 Berlin 10178 Deutschland;X-APPLE-RADIUS=500;X-TITLE=Rosenthaler Straße 39:geo:13.4026456,52.5242301
END:VEVENT
END:VCALENDAR