BEGIN:VCALENDAR
VERSION:2.0
PRODID:-//Kunstleben Berlin - das Kunstmagazin - ECPv4.9.13//NONSGML v1.0//EN
CALSCALE:GREGORIAN
METHOD:PUBLISH
X-WR-CALNAME:Kunstleben Berlin - das Kunstmagazin
X-ORIGINAL-URL:https://www.kunstleben-berlin.de
X-WR-CALDESC:Veranstaltungen im Kunstleben Berlin - das Kunstmagazin
BEGIN:VTIMEZONE
TZID:Europe/Berlin
BEGIN:DAYLIGHT
TZOFFSETFROM:+0100
TZOFFSETTO:+0200
TZNAME:CEST
DTSTART:20260329T010000
END:DAYLIGHT
BEGIN:STANDARD
TZOFFSETFROM:+0200
TZOFFSETTO:+0100
TZNAME:CET
DTSTART:20261025T010000
END:STANDARD
END:VTIMEZONE
BEGIN:VEVENT
DTSTART;VALUE=DATE:20260226
DTEND;VALUE=DATE:20260302
DTSTAMP:20260423T164023
CREATED:20260223T111413Z
LAST-MODIFIED:20260223T130847Z
UID:115066-1772064000-1772409599@www.kunstleben-berlin.de
SUMMARY:One Shot Award - Winter 2026
DESCRIPTION:From 26. February to 01. March 2026\, the Winter edition of the BBA One Shot Award returns to BBA Gallery in Berlin. See what shots have caught our eye this year from the open call. \nThe group exhibition will host 20 shortlist finalists in the gallery\, and 30 longlist nominees on digital display. It is set to be a celebration of photography and image making with the ongoing motif ‚Your Story. Your Medium.‘. The images on display utilise the various tools and technology of image-making – from analogue film cameras to convenient mobile phone snaps to experimentation digital photography. What story is behind the shot? \nThe BBA One Shot Award is an international photography competition organised by Berlin-based BBA Gallery\, known for promoting emerging artists in lens-based media. It focuses on recognising and celebrating the best single shot from photographers worldwide\, emphasising the power of one image to convey a story\, emotion\, or concept. Unlike other competitions that prioritise portfolios\, this award challenges photographers to distill their creative expression into a single\, powerful image\, offering a platform for emerging talent to gain recognition and visibility in the art world. \n
URL:https://www.kunstleben-berlin.de/event/one-shot-award-winter-2026/
LOCATION:BBA Gallery\, Köpenickerstrasse 96\, Berlin\, 10179\, Deutschland
CATEGORIES:Ausstellung
ATTACH;FMTTYPE=image/jpeg:https://www.kunstleben-berlin.de/wp-content/uploads/2026/02/OSA26-Winter-Exhibition-KV-1-1-1.jpg
GEO:52.5111633;13.4149853
X-APPLE-STRUCTURED-LOCATION;VALUE=URI;X-ADDRESS=BBA Gallery Köpenickerstrasse 96 Berlin 10179 Deutschland;X-APPLE-RADIUS=500;X-TITLE=Köpenickerstrasse 96:geo:13.4149853,52.5111633
END:VEVENT
END:VCALENDAR