BEGIN:VCALENDAR
VERSION:2.0
PRODID:-//Kunstleben Berlin - das Kunstmagazin - ECPv4.9.13//NONSGML v1.0//EN
CALSCALE:GREGORIAN
METHOD:PUBLISH
X-WR-CALNAME:Kunstleben Berlin - das Kunstmagazin
X-ORIGINAL-URL:https://www.kunstleben-berlin.de
X-WR-CALDESC:Veranstaltungen im Kunstleben Berlin - das Kunstmagazin
BEGIN:VTIMEZONE
TZID:Europe/Berlin
BEGIN:DAYLIGHT
TZOFFSETFROM:+0100
TZOFFSETTO:+0200
TZNAME:CEST
DTSTART:20230326T010000
END:DAYLIGHT
BEGIN:STANDARD
TZOFFSETFROM:+0200
TZOFFSETTO:+0100
TZNAME:CET
DTSTART:20231029T010000
END:STANDARD
BEGIN:DAYLIGHT
TZOFFSETFROM:+0100
TZOFFSETTO:+0200
TZNAME:CEST
DTSTART:20240331T010000
END:DAYLIGHT
BEGIN:STANDARD
TZOFFSETFROM:+0200
TZOFFSETTO:+0100
TZNAME:CET
DTSTART:20241027T010000
END:STANDARD
END:VTIMEZONE
BEGIN:VEVENT
DTSTART;VALUE=DATE:20230810
DTEND;VALUE=DATE:20240302
DTSTAMP:20260423T161230
CREATED:20230807T103805Z
LAST-MODIFIED:20230807T103805Z
UID:100724-1691625600-1709337599@www.kunstleben-berlin.de
SUMMARY:Pallavi Paul - How Love Moves: Prelude
DESCRIPTION:\nDie Künstlerin und Filmwissenschaftlerin Pallavi Paul arbeitet an der Schnittstelle zwischen Kino\, Literatur und politischen Konfliktlinien. Sie nutzt die Kamera als Hauptmedium\, um zu hinterfragen\, wie spirituelle\, technologische\, politische und historische „Wahrheits“-Regime im öffentlichen Leben produziert und aufrechterhalten werden. \nIn ihrer multidisziplinären Praxis\, die sich über die Bereiche Film\, Installation\, Performance\, Zeichnung und Text entfaltet\, interessiert sich Paul insbesondere für die Spannung zwischen dem Dokument und seiner ästhetischen Ausdrucksform – dem Dokumentarfilm. Sie produziert filmische Arbeiten im Spannungsfeld zwischen Fiktion und Dokumentation\, indem Paul visuelle Poesie durch verschiedene Referenzen entstehen lässt. Dabei zitiert sie oft aus Nachrichtenmaterial\, Youtube-Fünden\, sozialen Medien\, historischen Quellen und mehrsprachigen Texten\, setzt diese zusammen und kombiniert sie mit neu gedrehtem Material. Ihre früheren sowie aktuelle Filme machen das Publikum mit den Anfängen des Kinos als Instrument der Magie vertraut\, und lassen gleichzeitig immer wieder mutige\, unheimliche und temperamentvolle Protagonist*innen in Erscheinung treten. \nSeit 2020 erforscht Pallavi Paul den weitläufigen Bereich des Atmens – nicht nur durch den einzelnen Körper\, sondern durch das Kollektiv als transhistorische\, transgeografische und transformative Strömung. Sie beobachtet\, was es bedeutet\, Muster von molekularem Kolonialismus\, religiöser und rassifizierter Gewalt in der heutigen Gesellschaft zu erkennen. Dabei wendet sie sich dem Akt des Atmens als politischem\, sozialem\, ökologischem und rhythmischem Refrain des Lebens in Zeiten von Dissens und Verletzlichkeit zu. Die monumentalen Herausforderungen für Infrastrukturen von Gesundheit als auch für den Atem entziehen sich der Zeitgebundenheit des Bildschirms; viel eher verkörpern sie einen kontinuierlichen Prozess der Zirkulation und Regulierung\, der jede*n Einzelne*n mit allen Lebensformen verbindet. \nWährend ihrer Zeit als Artist in Residence am Gropius Bau im Jahr 2023 vertieft Pallavi Paul ihre Forschungen über die Liebe und deren verkörpertes Gegenstück\, den Atem. Sie stellt sich der einzigartigen Herausforderung\, greifbare Abbildungen von etwas Allgegenwärtigem\, aber „Unsichtbarem“ zu schaffen. \nAb dem 10. August wird im ersten Stock des Gropius Bau der Auftakt zu Pauls großer Einzelausstellung How Love Moves (2024) gezeigt. In How Love Moves: Prelude taucht eine Szenografie rund um die Drei-Kanal-Videoinstallation Cynthia Ke Sapne / The Dreams of Cynthia (2017) den historischen Schliemannsaal in einen Dämmerzustand zwischen Wachsein und Schlaf. Die Installation ist frei zugänglich und wird von dem Programm Six Days of Love begleitet\, das sich zwischen August 2023 und Frühjahr 2024 als eine Reihe von filmischen Lesungen\, Gesprächsformaten\, Performances und akustische Aktivierungen entfaltet. \nKuratiert von Natasha Ginwala \nBeitragsbild: Pallavi Paul\, Changing Places in the Fire\, Filmstill\, 2022 \n\nPallavi Paul – How Love Moves: Prelude\nab dem 10. August \nGropius Bau \n
URL:https://www.kunstleben-berlin.de/event/pallavi-paul-how-love-moves-prelude/
LOCATION:Gropius Bau\, Niederkirchnerstraße 7\, Berlin\, 10963\, Deutschland
CATEGORIES:Ausstellung
ATTACH;FMTTYPE=image/jpeg:https://www.kunstleben-berlin.de/wp-content/uploads/2023/08/gb23_pallavi_paul_key_visual_3_2.jpg
GEO:52.5070801;13.381871
X-APPLE-STRUCTURED-LOCATION;VALUE=URI;X-ADDRESS=Gropius Bau Niederkirchnerstraße 7 Berlin 10963 Deutschland;X-APPLE-RADIUS=500;X-TITLE=Niederkirchnerstraße 7:geo:13.381871,52.5070801
END:VEVENT
END:VCALENDAR