BEGIN:VCALENDAR
VERSION:2.0
PRODID:-//Kunstleben Berlin - das Kunstmagazin - ECPv4.9.13//NONSGML v1.0//EN
CALSCALE:GREGORIAN
METHOD:PUBLISH
X-WR-CALNAME:Kunstleben Berlin - das Kunstmagazin
X-ORIGINAL-URL:https://www.kunstleben-berlin.de
X-WR-CALDESC:Veranstaltungen im Kunstleben Berlin - das Kunstmagazin
BEGIN:VTIMEZONE
TZID:Europe/Berlin
BEGIN:DAYLIGHT
TZOFFSETFROM:+0100
TZOFFSETTO:+0200
TZNAME:CEST
DTSTART:20230326T010000
END:DAYLIGHT
BEGIN:STANDARD
TZOFFSETFROM:+0200
TZOFFSETTO:+0100
TZNAME:CET
DTSTART:20231029T010000
END:STANDARD
END:VTIMEZONE
BEGIN:VEVENT
DTSTART;TZID=Europe/Berlin:20231028T173000
DTEND;TZID=Europe/Berlin:20231028T190000
DTSTAMP:20260423T152219
CREATED:20231026T082302Z
LAST-MODIFIED:20260312T175339Z
UID:102699-1698514200-1698519600@www.kunstleben-berlin.de
SUMMARY:PAPER TRACKS Berlin-Brandenburg - Die Gegenwart der Papierherstellung im Haus des Papiers.
DESCRIPTION:Alexander Cartellieri\, Produktmanager der Firma Hahnemühle\, spricht über die aktuellen Herausforderungen nachhaltiger Produktionsprozesse in der Papierherstellung. \nIm Anschluss wird Christina Labusch\, Referentin für Public Relations und Kommunikation für Die Papierindustrie e.V.\, berichten\, wie oft und in welcher Form Papier wiederverwendet werden kann. \nNach den Impulsreferaten wir die Runde für Fragen und Anregungen geöffnet. \nDie Veranstaltung ist Teil der Herbstvorträge „Papertracks Berlin Brandenburg: Auf den Spuren des Papiers in Kunst\, Wissenschaft und Industrie“. Sie wird ermöglicht durch die freundliche Unterstützung der Stiftung Preußische Seehandlung. \nZeit & Ort\n\n\n28. Okt.\, 17:30 – 19:00 \nBerlin\, Seydelstraße 30\, 10117 Berlin\, Deutschland \n\n\n
URL:https://www.kunstleben-berlin.de/event/paper-tracks-berlin-brandenburg-die-gegenwart-der-papierherstellung-im-haus-des-papiers/
LOCATION:Haus des Papiers\, Seydelstraße 30\, Berlin\, 10117\, Deutschland
CATEGORIES:Ausstellung
ATTACH;FMTTYPE=image/png:https://www.kunstleben-berlin.de/wp-content/uploads/2023/10/Paper_Tracks_Poster.png
GEO:52.51051;13.40354
X-APPLE-STRUCTURED-LOCATION;VALUE=URI;X-ADDRESS=Haus des Papiers Seydelstraße 30 Berlin 10117 Deutschland;X-APPLE-RADIUS=500;X-TITLE=Seydelstraße 30:geo:13.40354,52.51051
END:VEVENT
END:VCALENDAR