BEGIN:VCALENDAR
VERSION:2.0
PRODID:-//Kunstleben Berlin - das Kunstmagazin - ECPv4.9.13//NONSGML v1.0//EN
CALSCALE:GREGORIAN
METHOD:PUBLISH
X-WR-CALNAME:Kunstleben Berlin - das Kunstmagazin
X-ORIGINAL-URL:https://www.kunstleben-berlin.de
X-WR-CALDESC:Veranstaltungen im Kunstleben Berlin - das Kunstmagazin
BEGIN:VTIMEZONE
TZID:Europe/Berlin
BEGIN:DAYLIGHT
TZOFFSETFROM:+0100
TZOFFSETTO:+0200
TZNAME:CEST
DTSTART:20230326T010000
END:DAYLIGHT
BEGIN:STANDARD
TZOFFSETFROM:+0200
TZOFFSETTO:+0100
TZNAME:CET
DTSTART:20231029T010000
END:STANDARD
END:VTIMEZONE
BEGIN:VEVENT
DTSTART;VALUE=DATE:20231111
DTEND;VALUE=DATE:20231112
DTSTAMP:20260423T134133
CREATED:20231028T132441Z
LAST-MODIFIED:20260312T175338Z
UID:102722-1699660800-1699747199@www.kunstleben-berlin.de
SUMMARY:PAPER TRACKS Berlin-Brandenburg - Künstlerische Forschung am Papier
DESCRIPTION:Nike Finger-Hamborg widmet sich nicht nur der künstlerischen Arbeit auf und mit dem Papier. Ihre Leidenschaft für Textilien und ihre umfassenden Erfahrungen als Unternehmensberaterin haben sie dazu inspiriert\, sich mit dem Austausch von Kunststoffen durch nachwachsende Materialien zu beschäftigen\, die sie uns in einem Impulsreferat näherbringt. \nTanja Major experimentiert mit Pilzen und stellt daraus ihr sogenannten „Mykobüttenpapier“ her. Das handgeschöpfte Papier birgt ein enormes Potenzial und stellt eine Alternative zur Nutzung herkömmlicher Zellulosefasern dar. Ihre besonderen Papiere stellt die Künstlerin und Pilz-Expertin anhand von Schauobjekten vor. \nDer Eintritt für die Veranstaltung ist frei. Während der Veranstaltung sind Teile der Ausstellung kostenfrei zugänglich. \nDie Veranstaltung ist Teil der Herbstvorträge „Paper Tracks Berlin Brandenburg: Auf den Spuren des Papiers in Kunst\, Wissenschaft und Industrie“. Sie wird ermöglicht durch die freundliche Unterstützung der Stiftung Preußische Seehandlung. \n
URL:https://www.kunstleben-berlin.de/event/paper-tracks-berlin-brandenburg-kuenstlerische-forschung-am-papier/
LOCATION:Haus des Papiers\, Seydelstraße 30\, Berlin\, 10117\, Deutschland
CATEGORIES:Ausstellung
ATTACH;FMTTYPE=image/png:https://www.kunstleben-berlin.de/wp-content/uploads/2023/10/Paper_Tracks_Poster-1.png
GEO:52.51051;13.40354
X-APPLE-STRUCTURED-LOCATION;VALUE=URI;X-ADDRESS=Haus des Papiers Seydelstraße 30 Berlin 10117 Deutschland;X-APPLE-RADIUS=500;X-TITLE=Seydelstraße 30:geo:13.40354,52.51051
END:VEVENT
END:VCALENDAR