BEGIN:VCALENDAR
VERSION:2.0
PRODID:-//Kunstleben Berlin - das Kunstmagazin - ECPv4.9.13//NONSGML v1.0//EN
CALSCALE:GREGORIAN
METHOD:PUBLISH
X-WR-CALNAME:Kunstleben Berlin - das Kunstmagazin
X-ORIGINAL-URL:https://www.kunstleben-berlin.de
X-WR-CALDESC:Veranstaltungen im Kunstleben Berlin - das Kunstmagazin
BEGIN:VTIMEZONE
TZID:Europe/Berlin
BEGIN:DAYLIGHT
TZOFFSETFROM:+0100
TZOFFSETTO:+0200
TZNAME:CEST
DTSTART:20170326T010000
END:DAYLIGHT
BEGIN:STANDARD
TZOFFSETFROM:+0200
TZOFFSETTO:+0100
TZNAME:CET
DTSTART:20171029T010000
END:STANDARD
END:VTIMEZONE
BEGIN:VEVENT
DTSTART;TZID=Europe/Berlin:20170810T180000
DTEND;TZID=Europe/Berlin:20170819T220000
DTSTAMP:20260423T201236
CREATED:20170807T112715Z
LAST-MODIFIED:20260313T101723Z
UID:70296-1502388000-1503180000@www.kunstleben-berlin.de
SUMMARY:Performance in der Anaid Art Gallery
DESCRIPTION:  \n10. August – 19. August 2017Im Rahmen der Ausstellung findet eine visuelle Erlebnisleistung (Performance) von Vera Kochubey statt\, die das Gruppenritual\, die Live-Malerei und den Tarot…alchemistischen Prozess der Drehung von Materie in Gold kombiniert! \nIn The Postmodern Condition: A Report on Knowledge (1979) ist Jean François Lyotard der Meinung\, dass die zeitgenössische Gesellschaft große\, universelle Strukturen wie Religion\, Genie usw. zugunsten zu lokaler Erzählungen und persönlicher Mythen ablehnt. Dies ist eine Welt\, die sich selbst als Antisystem ansieht\, während sie sich von verschiedenen Kulturen und Ideologien\, die sie dann in einem plastischen Prozess der Fragmentierung dekantiert\, entschlossen ansammeln und entleihen. \nDas Ausstellungsprojekt Eyes Wide Shut hat als Hintergrund den Film mit dem gleichen Titel des Regisseurs Stanley Kubrick aus dem Jahr 1999. Kubricks Film ist eine Adaption nach dem Roman des österreichischen Schriftstellers Arthur Schnitzler\, „Traumnovelle“ („Traumgeschichte“) von 1926. \nEyes Wide Shut ist über das\, was den menschlichen Geist verborgen ist\, was nur geistig wahrgenommen werden kann. Das geistige Spiel\, die Empfindungen nach einer psychologischen Vernehmung entwickelten\, die widerlegten und unterdrückten Wünsche schaffen einen Zustand des Mysteriums\, Ungewissheit\, der die Grenzen des Realen zwingt. Alexandru Rădvan (RO)\, Aurel Vlad (RO) und Vera Kochubey (RU/DE) stellen drei künstlerische Richtungen dar\, in denen die menschliche Psyche tief verhört wird. \nAlexandru Rădvans Kunst ist nicht leicht zu betrachten oder zu begreifen; noch ist es eine bequeme Form der Kunst\, eine\, die Auge und Seele sich freuen. Im Gegenteil\, zwingt es den Betrachter zu denken\, zu fragen und zu versuchen\, Antworten auf seine eigenen herauszufinden. Das Werk Krebs ist vielleicht das  wichtigste Kunstwerk der rumänischen Kunst nach 1989. Gemalt im Jahr 2007\, bringt es in die Diskussion sowohl die Art der Repräsentation als auch die Zuschauer Fähigkeit zu verstehen\, sein Engagement und Ausdauer. Der Künstler wollte in einem einzigen Blick Trauma\, Eitelkeit\, Groteske\, Bestialität und Leidenschaft\, hiermit eine gründliche Erneuerung von sensiblen Wissen zu  umfassen. \nBaruch Spinoza betrachtet den Körper als Ausdruck  göttlicher Essenz. In den Werken von Aurel Vlad trägt der menschliche Körper sowohl das große göttliche Mysterium als auch irdische Erfahrung in sich. Die Figuren unterliegen oft physischem und psychischem Druck\, der den Aufruhr und den inneren Kampf zum Ausdruck bringt. Ikarus Serien enthüllte Gefühle wie Angst\, Terror\, Wunsch nach Freiheit und Auf-stieg\, gefolgt von einem imminenten Sturz\, Nostalgie und Mitgefühl. Georges Bataille war der Meinung\, dass das Opfer so auserwählt wird\, dass seine Vollkommenheit die Brutalität des Todes erkennbar macht. Ikarus ist gewölbt\, weil er lieb zum Flug ist. \nVera Kochubeys Werke wollen eine neue Art von Spiritualität auferlegen. Die Spiritualität außerhalb der religiösen und kulturellen Wahrnehmung ist eine Spiritualität des eigenen Selbst. Ein Selbst\, das ein Element der Verbindung durch Kunst mit dem Universum wird\, durch Selbsterkenntnis. Seine schwarzen und weißen Leinwände werden von interrogativen Texten oder Aussagen über die Konzepte von Transgender\, Feminismus\, homosexuelle und lesbische Orientierung oder asexuelle oder sexuell zweideutige stilisierte Charaktere überfallen. Eines der repräsentativsten Kunstwerke ist Icon von 2017\, wo die Spiritualität des eigenen Selbst nach dem alten byzantinischen Ikonen-Baufeld mit Texten und Symbolen aus den Tarots-Karten dargestellt wird. Auch die figurative Darstellung ist zweideutig halb menschliches\, halbes Tier\, das zur Idee der hellen und dunklen Seite führt\, die in uns wohnt. \nEyes Wide Shut ist eine Ausstellung über Mysterium\, Ambiguität\, Lust\, Angst\, Selbstbestimmung. Es geht um unsere Wünsche\, die Grenzen mit der Kraft unseres Geistes zu überschreiten. \nALEXANDRU RĂDVAN | AUREL VLAD | VERA KOCHUBEYEröffnung: Donnerstag\, 10. August 2017\, 18 – 20 Uhr \n
URL:https://www.kunstleben-berlin.de/event/performance-in-der-anaid-art-gallery/
LOCATION:Anaid Art Gallery\, Joachimstrasse 7\, Berlin\, 10119\, Deutschland
CATEGORIES:Begleitprogramm zur Ausstellung
ATTACH;FMTTYPE=image/png:https://www.kunstleben-berlin.de/wp-content/uploads/2017/08/Bildschirmfoto-2017-08-05-um-12.48.17.png
GEO:52.5274677;13.4010589
X-APPLE-STRUCTURED-LOCATION;VALUE=URI;X-ADDRESS=Anaid Art Gallery Joachimstrasse 7 Berlin 10119 Deutschland;X-APPLE-RADIUS=500;X-TITLE=Joachimstrasse 7:geo:13.4010589,52.5274677
END:VEVENT
END:VCALENDAR