BEGIN:VCALENDAR
VERSION:2.0
PRODID:-//Kunstleben Berlin - das Kunstmagazin - ECPv4.9.13//NONSGML v1.0//EN
CALSCALE:GREGORIAN
METHOD:PUBLISH
X-WR-CALNAME:Kunstleben Berlin - das Kunstmagazin
X-ORIGINAL-URL:https://www.kunstleben-berlin.de
X-WR-CALDESC:Veranstaltungen im Kunstleben Berlin - das Kunstmagazin
BEGIN:VTIMEZONE
TZID:Europe/Berlin
BEGIN:DAYLIGHT
TZOFFSETFROM:+0100
TZOFFSETTO:+0200
TZNAME:CEST
DTSTART:20170326T010000
END:DAYLIGHT
BEGIN:STANDARD
TZOFFSETFROM:+0200
TZOFFSETTO:+0100
TZNAME:CET
DTSTART:20171029T010000
END:STANDARD
END:VTIMEZONE
BEGIN:VEVENT
DTSTART;TZID=Europe/Berlin:20170913T120000
DTEND;TZID=Europe/Berlin:20171029T180000
DTSTAMP:20260423T200647
CREATED:20170725T122129Z
LAST-MODIFIED:20230810T053739Z
UID:70098-1505304000-1509300000@www.kunstleben-berlin.de
SUMMARY:Portrait of a Nation
DESCRIPTION:Die Ausstellung Portrait of a Nation gibt einen Einblick in das Schaffen von 50 zeitgenössischen KünstlerInnen aus den Vereinigten Arabischen Emiraten (VAE). Die BesucherInnen sind eingeladen\, das Land durch die individuellen Sichtweisen der teilnehmenden KünstlerInnen auf ihre Heimat zu erkunden. Die Ausstellung ist in sieben Themenräume gegliedert: Nation & Einheit\, Geographie & Natur\, Architektur & Urbanismus\, Porträt & Identität\, Religion & Spiritualität\, Sprache & Kalligraphie\, sowie Tradition & Erbe. \nDie Vereinigten Arabischen Emirate wurden im Jahr 1971 gegründet und sind heute Heimat für rund 200 verschiedene Nationalitäten. Die Ausstellung bietet einen seltenen Einblick in die wenig bekannte Geschichte und Vielfalt der VAE und thematisiert zugleich wichtige aktuelle Fragen nach Kulturerbe und Identität. Die Kunstwerke erkunden und hinterfragen vor dem Hintergrund einer raschen Entwicklung und Globalisierung komplexe Ideen moderner Nationalität. Sie führen in städtische und ländliche Landschaften und beschäftigen sich mit den wichtigen Themen von Einheit\, Spiritualität und Sprache. 20 eigens beauftragte Arbeiten von aufstrebenden ebenso wie arrivierten KünstlerInnen machen die Ausstellung zu einer Auseinandersetzung mit dem Identitätswandel der Nation. \nDiese neuen Reflexionen werden im Kontext wegweisender Werke präsentiert\, die bis zur Geburtsstunde des Landes zurückreichen. Drei Generationen renommierter emiratischer KünstlerInnen sind vertreten: von Hassan Sharif und den SchülerInnen seiner Werkstatt bis hin zu jüngeren KünstlerInnen. Die Ausstellung zeigt Werke vielfältigster Medien: Skulptur\, Fotografie\, Land Art\, Malerei\, Textilien\, Video\, Scanografie und Neuinterpretationen traditioneller Handwerke. Die Überblicksschau emiratischer Kunst Portrait of a Nation wurde 2016 in Abu Dhabi eröffnet und wird nun erstmals im Ausland gezeigt. Sie wirft dringliche Fragen von globaler Relevanz zu Identität und interkulturellem Austausch im 21. Jahrhundert auf. \nAbu Dhabi Music & Arts Foundation (ADMAF) Die Ausstellung zeigt unter anderem Werke aus der Kunstsammlung der Abu Dhabi Music & Arts Foundation (ADMAF)\, die eine der ältesten non-profit Kulturorganisationen des Arabischen Golfes ist und das Abu Dhabi Festival ausrichtet. Im Jahr 1996 gegründet\, hat ADMAF seit über 20 Jahren neue künstlerische Debutdarstellungen präsentiert\, den globalen\, kulturübergreifenden Dialog vertieft sowie ein erhöhtes Interesse an der Kreativität der VAE und der weiteren arabischen Welt geweckt. \n
URL:https://www.kunstleben-berlin.de/event/portrait-of-a-nation/
LOCATION:me Collectors Room / Stiftung Olbricht\, Auguststraße 68\, Berlin\, 10117\, Deutschland
CATEGORIES:Ausstellung
GEO:52.5270397;13.3951427
X-APPLE-STRUCTURED-LOCATION;VALUE=URI;X-ADDRESS=me Collectors Room / Stiftung Olbricht Auguststraße 68 Berlin 10117 Deutschland;X-APPLE-RADIUS=500;X-TITLE=Auguststraße 68:geo:13.3951427,52.5270397
END:VEVENT
END:VCALENDAR