BEGIN:VCALENDAR
VERSION:2.0
PRODID:-//Kunstleben Berlin - das Kunstmagazin - ECPv4.9.13//NONSGML v1.0//EN
CALSCALE:GREGORIAN
METHOD:PUBLISH
X-WR-CALNAME:Kunstleben Berlin - das Kunstmagazin
X-ORIGINAL-URL:https://www.kunstleben-berlin.de
X-WR-CALDESC:Veranstaltungen im Kunstleben Berlin - das Kunstmagazin
BEGIN:VTIMEZONE
TZID:Europe/Berlin
BEGIN:DAYLIGHT
TZOFFSETFROM:+0100
TZOFFSETTO:+0200
TZNAME:CEST
DTSTART:20190331T010000
END:DAYLIGHT
BEGIN:STANDARD
TZOFFSETFROM:+0200
TZOFFSETTO:+0100
TZNAME:CET
DTSTART:20191027T010000
END:STANDARD
END:VTIMEZONE
BEGIN:VEVENT
DTSTART;VALUE=DATE:20190424
DTEND;VALUE=DATE:20190430
DTSTAMP:20260423T194148
CREATED:20190413T134244Z
LAST-MODIFIED:20230424T133115Z
UID:76947-1556064000-1556513999@www.kunstleben-berlin.de
SUMMARY:Preparing For Darkness\, Vol. 3: I’m Not There / Kühlhaus Berlin
DESCRIPTION:Größte Ausstellung anlässlich des Gallery Weekend Berlin 2019 auf 4 Etagen mit über 2.500 m²! \nMit den Künstlern der Galerie Selected Artists und den eingeladenen Galerien: Galerie Römerapotheke\, Zürich* | Galleria Mazzoli\, Modena/Berlin** \nKünstler\nInna Artemova\, Teodora Axente\, Adam Bota\, Alin Bozbiciu\, Daniel Behrendt\, Radu Belcin\, Alessandro Giannì**\, Simone Haack\, David Hare*\, Douglas Henderson**\, Maurizio L’Altrella\, Pe Lang**\, Hugo Lopez-Ayuso**\, Andreas Lutz**\, Adam Magyar\, Patrick Lo Giudice*\, Nicola Samorì\, Attila Szücs\, Sergiu Toma\, Wainer Vaccari**\, Richard Wathen\, Wendelin Wohlgemuth\, Alexander Zakharov\, Josef Zlamal \n„I’m Not There“ – so heißt die dritte Ausgabe der Ausstelllungsreihe „Preparing For Darkness“ des Berliner Kurators Uwe Goldenstein\, die im Mai 2018 im Kühlhaus gestartet ist. Im Fokus steht dabei die figürliche Malerei mit einer tiefen kunstgeschichtlichen Reflexion und intensiver Auseinandersetzung mit der Melancholie. Die Reihe im Kühlhaus Berlin wird am 16. Juli 2019 fortgesetzt\, in 2020 folgen weitere Ausgaben\, die sich dann auf einzelne Länder beziehen\, so z.B. Preparing For Darkness\, Vol. 4: New Art From GDR / Vol. 5: Romania \nDie motivische Gebrochenheit und der melancholisch gefärbte Blick nach innen spielen in dieser Ausstellung die Wesensrolle. Die postromantische Utopie einer Einheit von äußerer und innerer Realität wird in ihrer Spannung fassbar und im Gelage von An- und Abwesenheit spürbar. So wie sich der Künstler ins Atelier wie in einen Schutzraum zurückzieht\, so drängen auch die abgebildeten Figuren nach einem Austritt aus der sie umgebenden Welt. Sie sind widerstrebend und oft allein\, geheimnisvoll und suchend. Sie wirken fragil und abgewandt\, scheinen aber gleichzeitig vollkommen ihrer Intuition zu vertrauen. Die Figuren sind von einem malerischen Schleier umhüllt\, in abstrahierte oder unscharfe Flächen eingebunden und erzählen von einem subtil wahrnehmbaren Bruch mit einer scheinbar offensichtlichen Realität. Die Vereinigung von innen und außen findet allein im Malerischen oder Konzeptuellen statt und bleibt eine treibende Kraft\, die konsequent ins Unbewusste verlagert ist. Der Rückzug ermöglicht das Ausleben einer Mehrschichtigkeit des Ichs gerade angesichts einer Außenwelt\, die mit allen Mitteln versucht\, eben diese Bestrebungen einzudämmen. So\, who’s there? I’m not. Text: Uwe Goldenstein \nKurator: Uwe Goldenstein\nVeranstalter: Galerie Selected Artists. Mitveranstalter:  Kühlhaus Berlin\nVernissage: Mittwoch\, der 24. April um 19:00. Bis 28.April 2019\nKühlhaus Berlin\nLuckenwalder Strasse 3\, 10963 Berlin. U1 / U2 Am Gleisdreieck \nGeöffnet tägl. von 14-19:00\nEintritt frei \n
URL:https://www.kunstleben-berlin.de/event/preparing-for-darkness-vol-3-im-not-there-kuehlhaus-berlin/
LOCATION:Selected Artists\, Weydemeyerstrasse 2\, Berlin\, 10178\, Deutschland
CATEGORIES:Ausstellung
GEO:52.5365325;13.4096993
X-APPLE-STRUCTURED-LOCATION;VALUE=URI;X-ADDRESS=Selected Artists Weydemeyerstrasse 2 Berlin 10178 Deutschland;X-APPLE-RADIUS=500;X-TITLE=Weydemeyerstrasse 2:geo:13.4096993,52.5365325
END:VEVENT
END:VCALENDAR