BEGIN:VCALENDAR
VERSION:2.0
PRODID:-//Kunstleben Berlin - das Kunstmagazin - ECPv4.9.13//NONSGML v1.0//EN
CALSCALE:GREGORIAN
METHOD:PUBLISH
X-WR-CALNAME:Kunstleben Berlin - das Kunstmagazin
X-ORIGINAL-URL:https://www.kunstleben-berlin.de
X-WR-CALDESC:Veranstaltungen im Kunstleben Berlin - das Kunstmagazin
BEGIN:VTIMEZONE
TZID:Europe/Berlin
BEGIN:DAYLIGHT
TZOFFSETFROM:+0100
TZOFFSETTO:+0200
TZNAME:CEST
DTSTART:20170326T010000
END:DAYLIGHT
BEGIN:STANDARD
TZOFFSETFROM:+0200
TZOFFSETTO:+0100
TZNAME:CET
DTSTART:20171029T010000
END:STANDARD
END:VTIMEZONE
BEGIN:VEVENT
DTSTART;VALUE=DATE:20170912
DTEND;VALUE=DATE:20170928
DTSTAMP:20260423T200602
CREATED:20170907T140501Z
LAST-MODIFIED:20260312T180357Z
UID:70759-1505174400-1506488399@www.kunstleben-berlin.de
SUMMARY:Preview der Kollaboration mit dem Berliner Illustrator Chrisse Kunst
DESCRIPTION:Kurfürstendamm 207\, im Showroom der Sofacompany \n
URL:https://www.kunstleben-berlin.de/event/preview-der-kollaboration-mit-dem-berliner-illustrator-chrisse-kunst/
LOCATION:Sofacompany Showroom\, Kurfürstendamm 207\, Berlin\, 10719\, Deutschland
CATEGORIES:Kunst- und Kulturfestival
ATTACH;FMTTYPE=image/jpeg:https://www.kunstleben-berlin.de/wp-content/uploads/2017/09/Einladung_Instagram.jpg
GEO:52.50186;13.32312
X-APPLE-STRUCTURED-LOCATION;VALUE=URI;X-ADDRESS=Sofacompany Showroom Kurfürstendamm 207 Berlin 10719 Deutschland;X-APPLE-RADIUS=500;X-TITLE=Kurfürstendamm 207:geo:13.32312,52.50186
END:VEVENT
END:VCALENDAR