BEGIN:VCALENDAR
VERSION:2.0
PRODID:-//Kunstleben Berlin - das Kunstmagazin - ECPv4.9.13//NONSGML v1.0//EN
CALSCALE:GREGORIAN
METHOD:PUBLISH
X-WR-CALNAME:Kunstleben Berlin - das Kunstmagazin
X-ORIGINAL-URL:https://www.kunstleben-berlin.de
X-WR-CALDESC:Veranstaltungen im Kunstleben Berlin - das Kunstmagazin
BEGIN:VTIMEZONE
TZID:Europe/Berlin
BEGIN:DAYLIGHT
TZOFFSETFROM:+0100
TZOFFSETTO:+0200
TZNAME:CEST
DTSTART:20180325T010000
END:DAYLIGHT
BEGIN:STANDARD
TZOFFSETFROM:+0200
TZOFFSETTO:+0100
TZNAME:CET
DTSTART:20181028T010000
END:STANDARD
END:VTIMEZONE
BEGIN:VEVENT
DTSTART;VALUE=DATE:20180921
DTEND;VALUE=DATE:20181002
DTSTAMP:20260423T222314
CREATED:20180921T010000Z
LAST-MODIFIED:20230724T124242Z
UID:74001-1537488000-1538369999@www.kunstleben-berlin.de
SUMMARY:RÄUME 2 - Die Ausstellungsreihe RÄUME geht in die zweite Runde
DESCRIPTION:\n\n\nDie zweite Ausstellung der Ausstellungsreihe RÄUME findet in diesem Jahr in einer ehemaligen Eisen- gießerei am Rande Berlins statt. Neben Alina Mann sind in diesem Jahr Natalie Bergschwinger sowie Marleen Franke mit HNTRLND und Solar Panel Art Series dabei. \n\n\n\n \n\n\n\n„RÄUME 2“ stellt mit seinem Ausstellungkonzept die Frage: Ist das\, was uns verbindet\, stärker als das\, was uns voneinander trennt? Die Organisatorinnen wollen mit der Auswahl der Künstler zeigen\, dass Kunst Menschen mit einander verbinden kann\, unabhängig von Geschlecht\, Hautfarbe oder gesellschaftlichem Hintergrund. In diesem Sinne haben sich über 70 internationale Künstler zusammengefunden\, die dieses Thema ganz unterschiedlich interpretieren und realisieren. Neben Ölgemälden planen einige Künstler Rauminstallationen und Videobeiträge. „Die Herausforderung“\, sagt Alina Mann\, „ist es\, jedem Künstler seinen Raum im Raum zu geben. Wir freuen uns auch sehr darüber\, dass wir mit der Ei- sengießerei einen so beeindruckenden und inspirierenden Ort gefunden haben\, der für sich genommen schon eine ganz eigene Geschichte mitbringt. Wir wollen auch in Zukunft Räume\, die auf eine Transformation warten\, für die Kunst öffnen und Künstler bei der Umsetzung ihrer Projekte unterstützen“. \nBesonders über die beiden diesjährigen Partner HNTRLND und Solar Panel Art Series freuen sich die Organisatorinnen. Solar Panel Art Series ist ein Projekt von THE BEAM\, ein Magazin\, das sich mit der Energiewende beschäftigt und mit der Serie hervorheben möchte\, dass Kunst\, Technologie und Natur koexistieren können. Wer ein Solar Panel erwirbt\, unterstützt damit das „Solar Kids School Program“ der Little Sun Foundation\, einem gemeinnützigen Verein\, ins Leben gerufen von Olafur Eliasson. \nDie Ausstellung „RÄUME 2“ in Kooperation mit HNTRLND und dem Solar Panel Art Series Projekt findet vom 22. – 30. September 2018 in der ehemaligen Eisengießerei in der Kopenhagenerstr. 60-68 in Reinickendorf statt. Eröffnet wird die Ausstellung am 21. September von 18-24 Uhr. Der Eintritt ist frei. \n\n\n\n
URL:https://www.kunstleben-berlin.de/event/ra%cc%88ume-2-die-ausstellungsreihe-ra%cc%88ume-geht-in-die-zweite-runde/
LOCATION:Ehemalige Eisengießerei\, Kopenhagenerstr. 60-68\, Berlin\, 13407\, Deutschland
CATEGORIES:Ausstellung,Vernissage
ATTACH;FMTTYPE=image/jpeg:https://www.kunstleben-berlin.de/wp-content/uploads/2018/09/RAEUME-2_DSC06297_Alina-Mann_small.jpeg
GEO:52.5792;13.36258
X-APPLE-STRUCTURED-LOCATION;VALUE=URI;X-ADDRESS=Ehemalige Eisengießerei Kopenhagenerstr. 60-68 Berlin 13407 Deutschland;X-APPLE-RADIUS=500;X-TITLE=Kopenhagenerstr. 60-68:geo:13.36258,52.5792
END:VEVENT
END:VCALENDAR