BEGIN:VCALENDAR
VERSION:2.0
PRODID:-//Kunstleben Berlin - das Kunstmagazin - ECPv4.9.13//NONSGML v1.0//EN
CALSCALE:GREGORIAN
METHOD:PUBLISH
X-WR-CALNAME:Kunstleben Berlin - das Kunstmagazin
X-ORIGINAL-URL:https://www.kunstleben-berlin.de
X-WR-CALDESC:Veranstaltungen im Kunstleben Berlin - das Kunstmagazin
BEGIN:VTIMEZONE
TZID:Europe/Berlin
BEGIN:DAYLIGHT
TZOFFSETFROM:+0100
TZOFFSETTO:+0200
TZNAME:CEST
DTSTART:20190331T010000
END:DAYLIGHT
BEGIN:STANDARD
TZOFFSETFROM:+0200
TZOFFSETTO:+0100
TZNAME:CET
DTSTART:20191027T010000
END:STANDARD
END:VTIMEZONE
BEGIN:VEVENT
DTSTART;VALUE=DATE:20190201
DTEND;VALUE=DATE:20190322
DTSTAMP:20260423T131400
CREATED:20190123T124953Z
LAST-MODIFIED:20230517T065126Z
UID:75270-1548979200-1553144399@www.kunstleben-berlin.de
SUMMARY:Raumwahrnehmung bei Galerie Sievi
DESCRIPTION:Ausstellung Raumwahrnehmung von drei Künstler aus Slowenien \nDie Gemälde von drei Kunstmaler\, Igor Banfi\, Črtomir Frelih und Maša Gala\, haben keinen gemeinsamen Inhalt oder bildnerischen Nenner\, dennoch weisen sie einige Ähnlichkeiten in ihren Werken auf. Die Qualität und Verbundenheit mit der Maltradition\, trotz verschiedener Versuche\, den traditionellen Materialien zu entkommen\, sind auf den ersten Blick offensichtlich. Die Analyse der Werke zeigt\, dass sie auch durch den grundlegenden Ansatz an das Malmedium miteinander verbunden sind. Sie interessieren sich dafür\, wie man die immateriellen Wesen des Menschen\, seine spirituelle Präsenz und seine Emotionalität\, all das mit einer abstrakten Kunstform oder Metapher veranschaulicht ist und was dem physischen Erscheinungsbild überschreitet. \nIgor Banfi\nGalerie Sievi – Raumwahrnehmung – Garcia-Banfi\, Arktische Sonate\, 70×100 cm\, Öl auf Leinwand\nSchöpferische Energie von Banfi\, die vor allem im absoluten Gespür für die bildnerische Gestaltung liegt\, ermöglicht es ihm\, in der melancholischen\, einsamen und mystischen Welt der Felder\, Feuchtgebiete und Gewässer die meditative Schönheit der ihm an Herz gewachsenen Landschaft von Prekmurje zum Leben zu erwecken. \nMaša Gala\nGalerie Sievi – Raumwahrnehmung – Maša Gala\, ON THE GRID\, MEMORY LANE 12\, 90 x 118 cm\, Mischtechnik auf Leinwand\nGala reagiert mit impulsiver Energie und Leidenschaft auf die Gefühle die sie beeindrucken\, und die ihr verschiedene Baumaterialien und autoreflexive Farben bieten. Sie baut Abstraktionen ohne eine Erzählung durch das Beschichtung System auf\, oft mit Wiederholung des Musters. \nČrtomir Frelih\nGalerie Sievi – Raumwahrnehmung – Črtomir Frelih\, It`s not The End\, 80×70 cm\, Acryl auf Leinwand\nBeim Frelih\, sind Füchse ein Motiv\, das der Autor in den letzten fünf Jahren als Metapher für das Ausdrücken empfindlicher delikaten zwischenmenschliche Beziehungen verwendet hat. Neben grafischen Realisierungen widmete er sich kürzlich der farbigen Herangehensweise von Acryl auf Leinwand in der innovativen „Transfer“ -Technik.  Olga Butinar Čeh\, Professorin für Kunstgeschichte \nRaumwahrnehmung\nMag. Igor Banfi\, Prof. Črtomir Frelih\, Maša Gala \nEinführung\nMinister Prof.Dejan Prešiček/ Rep. Slowenien \nMusik\nBogdana Herman/ A capela \nAusstellung\n01. Februar – 20. März 2019 \nVernissage\n01.Februar 2019 \n19 Uhr \n
URL:https://www.kunstleben-berlin.de/event/raumwahrnehmung/
LOCATION:Galerie Sievi\, Gneisenaustrasse 112\, Berlin\, 10961\, Deutschland
CATEGORIES:Ausstellung,Vernissage
ATTACH;FMTTYPE=image/jpeg:https://www.kunstleben-berlin.de/wp-content/uploads/2019/01/Galerie-Sievi-Raumwahrnehmung-Garcia-Gala-ON-THE-GRID-MEMORY-LANE-12-90-x-118-cm-Mischtechnik-auf-Leinwa.jpg
GEO:52.4929399;13.3892226
X-APPLE-STRUCTURED-LOCATION;VALUE=URI;X-ADDRESS=Galerie Sievi Gneisenaustrasse 112 Berlin 10961 Deutschland;X-APPLE-RADIUS=500;X-TITLE=Gneisenaustrasse 112:geo:13.3892226,52.4929399
END:VEVENT
END:VCALENDAR