BEGIN:VCALENDAR
VERSION:2.0
PRODID:-//Kunstleben Berlin - das Kunstmagazin - ECPv4.9.13//NONSGML v1.0//EN
CALSCALE:GREGORIAN
METHOD:PUBLISH
X-WR-CALNAME:Kunstleben Berlin - das Kunstmagazin
X-ORIGINAL-URL:https://www.kunstleben-berlin.de
X-WR-CALDESC:Veranstaltungen im Kunstleben Berlin - das Kunstmagazin
BEGIN:VTIMEZONE
TZID:Europe/Berlin
BEGIN:DAYLIGHT
TZOFFSETFROM:+0100
TZOFFSETTO:+0200
TZNAME:CEST
DTSTART:20190331T010000
END:DAYLIGHT
BEGIN:STANDARD
TZOFFSETFROM:+0200
TZOFFSETTO:+0100
TZNAME:CET
DTSTART:20191027T010000
END:STANDARD
END:VTIMEZONE
BEGIN:VEVENT
DTSTART;VALUE=DATE:20190426
DTEND;VALUE=DATE:20190430
DTSTAMP:20260423T232950
CREATED:20190417T232528Z
LAST-MODIFIED:20260313T102833Z
UID:77050-1556236800-1556513999@www.kunstleben-berlin.de
SUMMARY:SIDEWAY / SEITENWEG bei aquabitArt gallery und Galerie JOH3_
DESCRIPTION:OPEN WEEKEND GALERIEN BERLIN MITTE / Gallery Weekend 2019\nSIDEWAY / SEITENWEG\naquabitArt gallery kooperiert mit der neuen Galerie JOH3_ für eine temporäre Ausstellung\nMit Arbeiten von: Peter Vink (NL)\, Lichtinstallation und Poren Huang (TWN)\, Skulptur\nLate Night Opening: Freitag\, 26. April 2019\, 20- \n
URL:https://www.kunstleben-berlin.de/event/sideway-seitenweg/
LOCATION:aquabitArt gallery\, Auguststrasse 35\, Berlin\, 10119\, Deutschland
CATEGORIES:Begleitprogramm zur Ausstellung
GEO:52.5276716;13.4011124
X-APPLE-STRUCTURED-LOCATION;VALUE=URI;X-ADDRESS=aquabitArt gallery Auguststrasse 35 Berlin 10119 Deutschland;X-APPLE-RADIUS=500;X-TITLE=Auguststrasse 35:geo:13.4011124,52.5276716
END:VEVENT
END:VCALENDAR