BEGIN:VCALENDAR
VERSION:2.0
PRODID:-//Kunstleben Berlin - das Kunstmagazin - ECPv4.9.13//NONSGML v1.0//EN
CALSCALE:GREGORIAN
METHOD:PUBLISH
X-WR-CALNAME:Kunstleben Berlin - das Kunstmagazin
X-ORIGINAL-URL:https://www.kunstleben-berlin.de
X-WR-CALDESC:Veranstaltungen im Kunstleben Berlin - das Kunstmagazin
BEGIN:VTIMEZONE
TZID:Europe/Berlin
BEGIN:DAYLIGHT
TZOFFSETFROM:+0100
TZOFFSETTO:+0200
TZNAME:CEST
DTSTART:20250330T010000
END:DAYLIGHT
BEGIN:STANDARD
TZOFFSETFROM:+0200
TZOFFSETTO:+0100
TZNAME:CET
DTSTART:20251026T010000
END:STANDARD
BEGIN:DAYLIGHT
TZOFFSETFROM:+0100
TZOFFSETTO:+0200
TZNAME:CEST
DTSTART:20260329T010000
END:DAYLIGHT
BEGIN:STANDARD
TZOFFSETFROM:+0200
TZOFFSETTO:+0100
TZNAME:CET
DTSTART:20261025T010000
END:STANDARD
END:VTIMEZONE
BEGIN:VEVENT
DTSTART;VALUE=DATE:20251108
DTEND;VALUE=DATE:20260119
DTSTAMP:20260423T185737
CREATED:20251031T105213Z
LAST-MODIFIED:20251102T122513Z
UID:114112-1762560000-1768780799@www.kunstleben-berlin.de
SUMMARY:Sonderausstellung: Käthe Kollwitz - Stille Kraft
DESCRIPTION:Unter dem Titel „Stille Kraft“ zeigt die Berliner Sonderschau eine Auswahl besonderer Werke aus der Kölner Privatsammlung von Ute Kahl\, die sich auf den Aspekt der Einfühlsamkeit im Œuvre von Käthe Kollwitz konzentriert. Die Präsentation rückt jene Blätter in den Fokus\, in denen Kollwitz sich wesentlich mit menschlichen Gefühlslagen auseinandersetzte: Sorge\, Trauer\, Verzweiflung und Apathie. Besonders eindrucksvoll gelingt ihr dabei der Fokus auf eine oder wenige Figuren\, die sie ohne erkennbares historisches Umfeld wiedergibt und denen sie dadurch überzeitliche Gültigkeit verleiht. Auch heute noch\, über 100 Jahre nach ihrer Entstehung\, vermögen diese stark konzentrierten Bilder unmittelbar emotional zu berühren und zeugen von Kollwitz‘ künstlerischer Ausdrucksstärke. \nAuch für die versierte Sammlerin Ute Kahl war dies der Einstieg in Kollwitz’ Bildwelt. Ihre erste Erwerbung\, „Die Mütter“ (1919)\, prägte nachhaltig ihre Sammelleidenschaft. Ihrer Überzeugung folgend\, eine Sammlung zu besitzen\, die alle Facetten von Kollwitz’ Schaffen abbildet und nicht allein im Privaten verbleiben darf\, öffnet sie diese Werke großzügig für die Öffentlichkeit. \nDie in der Ausstellung gezeigten Zeichnungen und Zustandsdrucke der langsam und selbstkritisch arbeitenden Künstlerin machen ihr beharrliches Ringen um Kunst und Ausdruck sichtbar. Sie ermöglichen eine konzentrierte Auseinandersetzung mit der Gefühlswelt von Käthe Kollwitz. Dadurch eröffnet sich eine Erzählebene\, die auch heute noch viele Museumsbesuchende – besonders Kinder und Jugendliche – anspricht. Sie lädt dazu ein\, einer Kunst mit Ernst\, aber auch mit Offenheit zu begegnen\, auch wenn sie weniger leicht zugänglich wirkt. Die Sonderschau gewährt Einblicke in die Arbeitswelt einer Künstlerin\, deren Kunst nicht farbig und gefällig\, sondern schwarzweiß und düster ist\, und deren Einfluss über Jahrzehnte hinweg international spürbar war. \nZur Ausstellung erscheint eine Begleitpublikation. \n
URL:https://www.kunstleben-berlin.de/event/sonderausstellung-kaethe-kollwitz-stille-kraft/
LOCATION:Käthe-Kollwitz-Museum Berlin\, Spandauer Damm 10\, Berlin\, 14059\, Deutschland
CATEGORIES:Ausstellung
ATTACH;FMTTYPE=image/jpeg:https://www.kunstleben-berlin.de/wp-content/uploads/2025/10/NT-592-Selbstbildnis-mit-geschlossenen-Augen-VS.jpg
GEO:52.5205346;13.2921468
X-APPLE-STRUCTURED-LOCATION;VALUE=URI;X-ADDRESS=Käthe-Kollwitz-Museum Berlin Spandauer Damm 10 Berlin 14059 Deutschland;X-APPLE-RADIUS=500;X-TITLE=Spandauer Damm 10:geo:13.2921468,52.5205346
END:VEVENT
END:VCALENDAR