BEGIN:VCALENDAR
VERSION:2.0
PRODID:-//Kunstleben Berlin - das Kunstmagazin - ECPv4.9.13//NONSGML v1.0//EN
CALSCALE:GREGORIAN
METHOD:PUBLISH
X-WR-CALNAME:Kunstleben Berlin - das Kunstmagazin
X-ORIGINAL-URL:https://www.kunstleben-berlin.de
X-WR-CALDESC:Veranstaltungen im Kunstleben Berlin - das Kunstmagazin
BEGIN:VTIMEZONE
TZID:Europe/Berlin
BEGIN:DAYLIGHT
TZOFFSETFROM:+0100
TZOFFSETTO:+0200
TZNAME:CEST
DTSTART:20250330T010000
END:DAYLIGHT
BEGIN:STANDARD
TZOFFSETFROM:+0200
TZOFFSETTO:+0100
TZNAME:CET
DTSTART:20251026T010000
END:STANDARD
END:VTIMEZONE
BEGIN:VEVENT
DTSTART;VALUE=DATE:20251018
DTEND;VALUE=DATE:20251028
DTSTAMP:20260423T142515
CREATED:20251016T141740Z
LAST-MODIFIED:20251016T160237Z
UID:113971-1760745600-1761609599@www.kunstleben-berlin.de
SUMMARY:this room could be a room.  Harry Copas & Jovan Turčinović
DESCRIPTION:Wenig trennt einen leeren Galerieraum von einem neu gemieteten Zimmer. Diese seltsame\, zögerliche Aufregung\, in der sich alles noch offen anfühlt – wartend. Man möchte in diesem Moment verweilen\, bevor etwas platziert oder arrangiert wird\, bevor Entscheidungen beginnen\, Dinge einzugrenzen.\nDoch irgendwann muss etwas geschehen. Objekte erscheinen. Dinge werden bewegt\, aufgehängt\, entfernt\, ersetzt. Aber es gilt\, ein Gleichgewicht zu wahren. Der Raum muss begehbar bleiben. Die Dinge müssen miteinander sprechen. Sinn ergeben – oder vielleicht auch nicht –\, und doch irgendwie zusammengehören.\nHarry Copas und Jovan Turčinović vereinen sich um die Idee\, den Ausstellungsraum als einen potenziellen Raum zu zeigen – nicht definiert durch Funktion\, sondern durch Präsenz. Ein Raum\, in dem Dinge widerhallen\, selbst wenn sie scheinbar nichts tun.\nIrgendwo in diesem Hin und Her zwischen Erinnerung und Möglichkeit könnte dieser Raum ein Raum sein.\nThis Room Could Be a Room ist eine Ausstellung der Künstler Harry Copas und Jovan Turčinović\, die neue Arbeiten präsentiert\, welche räumliche Empfindungen und die leisen Beziehungen zwischen Objekten und ihrer Umgebung hinterfragen. Die Ausstellung lädt Besucher:innen ein\, in einem Moment des Übergangs zu verweilen – zwischen der Leere des Raums und dem Akt des Bewohnens – und zu erforschen\, wie Präsenz aus der Stille entstehen und wie Schweigen Wahrnehmung formen kann.\nDie Eröffnung findet am 17. Oktober 2025 um 19 Uhr statt und zeigt Installationen\, Drucke\, Skulpturen und eine Klangarbeit\, die gemeinsam einen feinen Dialog zwischen dem Materiellen und dem Flüchtigen bilden. Die Ausstellung ist täglich von 14 bis 18 Uhr und nach Vereinbarung geöffnet.\nFür weitere Informationen können Sie sich gerne an tunnel19 oder direkt an die Künstler wenden.\nDie Ausstellung ist bis zum 27. Oktober 2025 geöffnet. \n
URL:https://www.kunstleben-berlin.de/event/this-room-could-be-a-room-harry-copas-jovan-turcinovic/
LOCATION:tunnel19 – Galerie für Fotografie\, Kohlfurter Str. 42\, Berlin\, 10999
CATEGORIES:Ausstellung
ATTACH;FMTTYPE=image/jpeg:https://www.kunstleben-berlin.de/wp-content/uploads/2025/10/WhatsApp-Image-2025-10-12-at-14.07.14.jpeg
GEO:52.4964864;13.4179534
X-APPLE-STRUCTURED-LOCATION;VALUE=URI;X-ADDRESS=tunnel19 – Galerie für Fotografie Kohlfurter Str. 42 Berlin 10999;X-APPLE-RADIUS=500;X-TITLE=Kohlfurter Str. 42:geo:13.4179534,52.4964864
END:VEVENT
END:VCALENDAR