BEGIN:VCALENDAR
VERSION:2.0
PRODID:-//Kunstleben Berlin - das Kunstmagazin - ECPv4.9.13//NONSGML v1.0//EN
CALSCALE:GREGORIAN
METHOD:PUBLISH
X-WR-CALNAME:Kunstleben Berlin - das Kunstmagazin
X-ORIGINAL-URL:https://www.kunstleben-berlin.de
X-WR-CALDESC:Veranstaltungen im Kunstleben Berlin - das Kunstmagazin
BEGIN:VTIMEZONE
TZID:Europe/Berlin
BEGIN:DAYLIGHT
TZOFFSETFROM:+0100
TZOFFSETTO:+0200
TZNAME:CEST
DTSTART:20250330T010000
END:DAYLIGHT
BEGIN:STANDARD
TZOFFSETFROM:+0200
TZOFFSETTO:+0100
TZNAME:CET
DTSTART:20251026T010000
END:STANDARD
BEGIN:DAYLIGHT
TZOFFSETFROM:+0100
TZOFFSETTO:+0200
TZNAME:CEST
DTSTART:20260329T010000
END:DAYLIGHT
BEGIN:STANDARD
TZOFFSETFROM:+0200
TZOFFSETTO:+0100
TZNAME:CET
DTSTART:20261025T010000
END:STANDARD
END:VTIMEZONE
BEGIN:VEVENT
DTSTART;VALUE=DATE:20251115
DTEND;VALUE=DATE:20260125
DTSTAMP:20260423T235259
CREATED:20251102T202109Z
LAST-MODIFIED:20251102T202109Z
UID:114126-1763164800-1769299199@www.kunstleben-berlin.de
SUMMARY:Viktor Petrov - Don’t Feed the Fetish
DESCRIPTION:Mit der Ausstellung „Don’t Feed the Fetish“ präsentiert NADAN erstmals eine Solo-Show des aufstrebenden bulgarischen Künstlers Viktor Petrov im eigenen Haus. \nAusgehend von persönlichen Erfahrungen – insbesondere seiner Beziehung zu seiner Mutter – erforscht Petrov die emotionalen Strömungen des häuslichen Lebens. Seine Skulpturen und Installationen entstehen aus Alltagsgegenständen wie Geschirrspülern\, Keramiken und Kochfeldern. \nDie Arbeiten spiegeln die Starrheit patriarchaler und gesellschaftlicher Strukturen wider\, die tief im emotionalen Gefüge der Balkankultur verankert sind. Mit seinen monumentalen Installationen versucht Petrov\, die fetischisierten Rollenbilder der Gesellschaft zu dekonstruieren und Themen wie Patriarchat\, Tabu und kollektive Anspannung in Zeiten sozialer Krisen zu beleuchten. \nViktor Petrov\, geboren 1991 in Bulgarien\, lebt und arbeitet heute in Berlin. Er absolvierte 2021 sein Masterstudium an der Universität der Künste Berlin (UdK) bei Professorin Monica Bonvicini und wurde 2022 mit dem UdK-Kunstpreis ausgezeichnet. \nViktor Petrov – Don’t Feed the Fetish\n15. November 2025 – 24. Januar 2026 \nNADAN \n
URL:https://www.kunstleben-berlin.de/event/viktor-petrov-dont-feed-the-fetish/
LOCATION:NADAN\, Wilhelmsaue 1\, Berlin\, 10715\, Deutschland
CATEGORIES:Ausstellung
ATTACH;FMTTYPE=image/jpeg:https://www.kunstleben-berlin.de/wp-content/uploads/2025/11/959f0ef4-9752-11b2-6f03-64bfa87b9e9e-scaled.jpg
GEO:52.5200066;13.404954
X-APPLE-STRUCTURED-LOCATION;VALUE=URI;X-ADDRESS=NADAN Wilhelmsaue 1 Berlin 10715 Deutschland;X-APPLE-RADIUS=500;X-TITLE=Wilhelmsaue 1:geo:13.404954,52.5200066
END:VEVENT
END:VCALENDAR