BEGIN:VCALENDAR
VERSION:2.0
PRODID:-//Kunstleben Berlin - das Kunstmagazin - ECPv4.9.13//NONSGML v1.0//EN
CALSCALE:GREGORIAN
METHOD:PUBLISH
X-WR-CALNAME:Kunstleben Berlin - das Kunstmagazin
X-ORIGINAL-URL:https://www.kunstleben-berlin.de
X-WR-CALDESC:Veranstaltungen im Kunstleben Berlin - das Kunstmagazin
BEGIN:VTIMEZONE
TZID:Europe/Berlin
BEGIN:DAYLIGHT
TZOFFSETFROM:+0100
TZOFFSETTO:+0200
TZNAME:CEST
DTSTART:20170326T010000
END:DAYLIGHT
BEGIN:STANDARD
TZOFFSETFROM:+0200
TZOFFSETTO:+0100
TZNAME:CET
DTSTART:20171029T010000
END:STANDARD
END:VTIMEZONE
BEGIN:VEVENT
DTSTART;VALUE=DATE:20170824
DTEND;VALUE=DATE:20170923
DTSTAMP:20260423T181748
CREATED:20170818T105923Z
LAST-MODIFIED:20230810T053823Z
UID:70548-1503532800-1506056399@www.kunstleben-berlin.de
SUMMARY:Vineta Pavilion No. 1
DESCRIPTION:Vom 24.8. bis 22.9. präsentiert die Galerie für frische Kunst ihr Ausstellungsprojekt Vineta Pavilion No. 1\, das zudem vom 8.10. bis 3.11. in Venedig (gegenüber vom katalanischen Pavillon) zu sehen sein wird. Neun Künstler verschiedenster Genres gestalten an beiden Orten den Pavillon der versunkenen Stadt Vineta und interpretieren den Mythos des sagenhaften Ortes neu: Eduard Bigas (Katalonien)\, Frank Busk und Mette Juul (beide Dänemark)\, Peter Johansson (Schweden)\, Yael Acher „KAT“ Modiano (Israel)\, Hartmut Stockter und Johanna Rossbach (beide Deuschland)\, Diana Vishnevskaya und Igor Zwetkow (beide Russland). \nZur Vernissage am 24.08. von 19-23 Uhr laden die Galerie und die Künstler herzlich ein. \n
URL:https://www.kunstleben-berlin.de/event/vineta-pavilion-no-1/
LOCATION:Galerie Kuchling\, Karl-Marx-Allee 123\, Berlin\, 10243\, Deutschland
CATEGORIES:Ausstellung
GEO:52.517017;13.4478046
X-APPLE-STRUCTURED-LOCATION;VALUE=URI;X-ADDRESS=Galerie Kuchling Karl-Marx-Allee 123 Berlin 10243 Deutschland;X-APPLE-RADIUS=500;X-TITLE=Karl-Marx-Allee 123:geo:13.4478046,52.517017
END:VEVENT
END:VCALENDAR