BEGIN:VCALENDAR
VERSION:2.0
PRODID:-//Kunstleben Berlin - das Kunstmagazin - ECPv4.9.13//NONSGML v1.0//EN
CALSCALE:GREGORIAN
METHOD:PUBLISH
X-WR-CALNAME:Kunstleben Berlin - das Kunstmagazin
X-ORIGINAL-URL:https://www.kunstleben-berlin.de
X-WR-CALDESC:Veranstaltungen im Kunstleben Berlin - das Kunstmagazin
BEGIN:VTIMEZONE
TZID:Europe/Berlin
BEGIN:DAYLIGHT
TZOFFSETFROM:+0100
TZOFFSETTO:+0200
TZNAME:CEST
DTSTART:20170326T010000
END:DAYLIGHT
BEGIN:STANDARD
TZOFFSETFROM:+0200
TZOFFSETTO:+0100
TZNAME:CET
DTSTART:20171029T010000
END:STANDARD
END:VTIMEZONE
BEGIN:VEVENT
DTSTART;VALUE=DATE:20170909
DTEND;VALUE=DATE:20171106
DTSTAMP:20260423T184000
CREATED:20170914T111725Z
LAST-MODIFIED:20230810T053757Z
UID:70949-1504915200-1509857999@www.kunstleben-berlin.de
SUMMARY:Wojciech Fangor - A Portrait of the Artist
DESCRIPTION:Die Ausstellung umfasst eine Schaffensperiode von vierzig Jahren\, angefangen von seinen ersten Werken aus den 1940er Jahren\, bis hin zu seinen Bildern die in den 1970er Jahren entstanden. \nÖffnungszeiten\nMittwoch – Samstag: 12 bis 18 Uhr \n
URL:https://www.kunstleben-berlin.de/event/wojciech-fangor-a-portrait-of-the-artist-3/
LOCATION:GNYP Gallery\, Knesebeckstraße 96\, Berlin\, 10623\, Deutschland
CATEGORIES:Ausstellung
GEO:52.5094505;13.3232396
X-APPLE-STRUCTURED-LOCATION;VALUE=URI;X-ADDRESS=GNYP Gallery Knesebeckstraße 96 Berlin 10623 Deutschland;X-APPLE-RADIUS=500;X-TITLE=Knesebeckstraße 96:geo:13.3232396,52.5094505
END:VEVENT
END:VCALENDAR