BEGIN:VCALENDAR
VERSION:2.0
PRODID:-//Kunstleben Berlin - das Kunstmagazin - ECPv4.9.13//NONSGML v1.0//EN
CALSCALE:GREGORIAN
METHOD:PUBLISH
X-WR-CALNAME:Kunstleben Berlin - das Kunstmagazin
X-ORIGINAL-URL:https://www.kunstleben-berlin.de
X-WR-CALDESC:Veranstaltungen im Kunstleben Berlin - das Kunstmagazin
BEGIN:VTIMEZONE
TZID:Europe/Berlin
BEGIN:DAYLIGHT
TZOFFSETFROM:+0100
TZOFFSETTO:+0200
TZNAME:CEST
DTSTART:20250330T010000
END:DAYLIGHT
BEGIN:STANDARD
TZOFFSETFROM:+0200
TZOFFSETTO:+0100
TZNAME:CET
DTSTART:20251026T010000
END:STANDARD
END:VTIMEZONE
BEGIN:VEVENT
DTSTART;VALUE=DATE:20250322
DTEND;VALUE=DATE:20250413
DTSTAMP:20260423T221609
CREATED:20250312T173147Z
LAST-MODIFIED:20250313T075218Z
UID:112006-1742601600-1744502399@www.kunstleben-berlin.de
SUMMARY:worm hole in star
DESCRIPTION:Die Ausstellung interpretiert Wurmlöcher sowohl als von Tieren gegrabene Tunnel als auch als hypothetische Verbindungen in Raum und Zeit und begreift Wurmlöcher als Wege zum „Anderen“. Durch diese spekulative Linse erforschen die Arbeiten der Künstlerinnen die Beziehungen zwischen Körpern\, Umgebungen und Technologien aus verschiedenen queeren und feministischen Perspektiven. Die Arbeiten sind auf menschliche und nicht-menschliche Beziehungen abgestimmt und finden eine Verwandtschaft mit Käfern\, Schädlingen und Parasiten als abjekten Figuren\, die mit Störungen\, Kontamination und Mutation assoziiert werden. Auf der Suche nach sozialen und politischen Alternativen nimmt ein poröses und interdependentes „Anders“ durch undichte Stellen\, hybride Kreaturen\, schwebende Kokons und mikroskopische Ökosysteme Gestalt an. Ähnlich wie ein „Instar“ – das Stadium eines Gliederfüßers zwischen den Häutungsperioden – umarmt worm hole in star einen mehrdeutigen Zustand des Werdens. \nVeranstaltungsdetails: \nEröffnungsempfang: Freitag\, 21. März 2025\, 18 – 21 Uhr.\nFinissage und audiovisuelle Performance von Maria Kobylenko: Samstag\, 12. April\, 19 – 21 Uhr\nDauer der Ausstellung: Samstag\, 22. März – Samstag\, 12. April\, 2025\, 14 – 19 Uhr\, Dienstag-Samstag\, oder nach Vereinbarung \n
URL:https://www.kunstleben-berlin.de/event/worm-hole-in-star/
LOCATION:SomoS Arts\, Kottbusser Damm 95\, Berlin\, 10967\, Deutschland
CATEGORIES:Ausstellung
ATTACH;FMTTYPE=image/png:https://www.kunstleben-berlin.de/wp-content/uploads/2025/03/Promo-Image_Lena-Becerra.png
GEO:52.4939763;13.4219284
X-APPLE-STRUCTURED-LOCATION;VALUE=URI;X-ADDRESS=SomoS Arts Kottbusser Damm 95 Berlin 10967 Deutschland;X-APPLE-RADIUS=500;X-TITLE=Kottbusser Damm 95:geo:13.4219284,52.4939763
END:VEVENT
END:VCALENDAR