BEGIN:VCALENDAR
VERSION:2.0
PRODID:-//Kunstleben Berlin - das Kunstmagazin - ECPv4.9.13//NONSGML v1.0//EN
CALSCALE:GREGORIAN
METHOD:PUBLISH
X-WR-CALNAME:Kunstleben Berlin - das Kunstmagazin
X-ORIGINAL-URL:https://www.kunstleben-berlin.de
X-WR-CALDESC:Veranstaltungen im Kunstleben Berlin - das Kunstmagazin
BEGIN:VTIMEZONE
TZID:Europe/Berlin
BEGIN:DAYLIGHT
TZOFFSETFROM:+0100
TZOFFSETTO:+0200
TZNAME:CEST
DTSTART:20190331T010000
END:DAYLIGHT
BEGIN:STANDARD
TZOFFSETFROM:+0200
TZOFFSETTO:+0100
TZNAME:CET
DTSTART:20191027T010000
END:STANDARD
END:VTIMEZONE
BEGIN:VEVENT
DTSTART;VALUE=DATE:20190301
DTEND;VALUE=DATE:20190422
DTSTAMP:20260423T222112
CREATED:20190214T142702Z
LAST-MODIFIED:20230517T065111Z
UID:75367-1551398400-1555822799@www.kunstleben-berlin.de
SUMMARY:Wundersame Welten in der Galerie Michael Haas und im Kunst Lager Haas
DESCRIPTION:\n\n\n\n\n\nEröffnung: Freitag\, 01. März 2019\, 19 – 21 Uhr \nAusstellungsdauer: 01. März – 20. April 2019 \nDas Absurde\, mit Geschmack dargestellt\, erregt Widerwillen und Bewunderung. (Johann Wolfgang von Goethe) \n\n\n\n\n\n\nEs ist der Bruch mit dem vermeintlich Schönen\, der die in dieser Ausstellung gezeigten Alten Meister bis hin zu zeitgenössischen Künstlern in ihrem Schaffen eint. Ihre Werke lösen konträre Assoziationen\, Gedanken und Gefühle aus – man kann sich ihnen kaum entziehen und wird unwillkürlich emotional involviert. Es scheint\, als hätte jeder Betrachter eine andere Meinung über das\, was er zu erfassen sucht\, wenn er die Bilder\, Objekte und Skulpturen sieht. Diese Kunst polarisiert. Naturgetreues trifft auf Absurdes und Fantastisches\, Schönheit vereint sich mit Grausamkeit\, Realität wird zur Illusion\, das Märchenhafte bezaubert und jagt uns einen Schauer über den Rücken. Die Motive scheinen vertraut und zugleich fremd. Es ist eine reizvolle und dennoch eine gebrochene Schönheit\, die jederzeit ins Morbide und Albtraumhafte zu kippen droht\, ohne dass das Böse konkret fassbar wäre. Während man möglicherweise ein leichtes Unbehagen empfinden mag\, hat man sich der Verführung von etwas nie zuvor Gesehenem längst hingegeben. \nKünstler*innen: Nicole Bianchet\, GL Brierley\, Martin Denker\, Max Ernst\, Jean Tinguely und Eva Aeppli\, Marianna Gartner\, Kerstin Grimm\, Uwe Henneken\, Paul Klee\, Gustav Kluge\, Dirk Lange\, Wolfe von Lenkiewicz\, René Magritte\, Charles Matton\, Kate MccGwire\, David Nicholson\, Daniel Richter\, Josef Scharl\, Friedrich Schröder-Sonnenstern\, Carolein Smit\, Dimitris Tzamouranis\, Sandra Vásquez de la Horra\, Thomas Virnich\, Wols\, Aloys Zötl u.a. \nDie Eröffnung findet in der Galerie Michael Haas und im Kunst Lager Haas statt. \nBeitragsbild: Maestro della fertilità dell’uovo\, Groteske Szene mit Tieren und Figuren in einer Küche\, 17. Jh.\, Öl auf Leinwand\, 91 × 120\,8 cm \n\n\n\n\n\n\n
URL:https://www.kunstleben-berlin.de/event/wundersame-welten-in-der-galerie-michael-haas-und-im-kunst-lager-haas/
LOCATION:Galerie Michael Haas\, Niebuhrstraße 5\, Berlin\, 10629\, Deutschland
CATEGORIES:Ausstellung,Vernissage
ATTACH;FMTTYPE=image/jpeg:https://www.kunstleben-berlin.de/wp-content/uploads/2019/02/Galerie-Michael-Haas-Maestro-della-fertilità-delluovo_11.jpg
GEO:52.5043913;13.3179203
X-APPLE-STRUCTURED-LOCATION;VALUE=URI;X-ADDRESS=Galerie Michael Haas Niebuhrstraße 5 Berlin 10629 Deutschland;X-APPLE-RADIUS=500;X-TITLE=Niebuhrstraße 5:geo:13.3179203,52.5043913
END:VEVENT
END:VCALENDAR