BEGIN:VCALENDAR
VERSION:2.0
PRODID:-//Kunstleben Berlin - das Kunstmagazin - ECPv4.9.13//NONSGML v1.0//EN
CALSCALE:GREGORIAN
METHOD:PUBLISH
X-WR-CALNAME:Kunstleben Berlin - das Kunstmagazin
X-ORIGINAL-URL:https://www.kunstleben-berlin.de
X-WR-CALDESC:Veranstaltungen im Kunstleben Berlin - das Kunstmagazin
BEGIN:VTIMEZONE
TZID:Europe/Berlin
BEGIN:DAYLIGHT
TZOFFSETFROM:+0100
TZOFFSETTO:+0200
TZNAME:CEST
DTSTART:20180325T010000
END:DAYLIGHT
BEGIN:STANDARD
TZOFFSETFROM:+0200
TZOFFSETTO:+0100
TZNAME:CET
DTSTART:20181028T010000
END:STANDARD
END:VTIMEZONE
BEGIN:VEVENT
DTSTART;VALUE=DATE:20180303
DTEND;VALUE=DATE:20180305
DTSTAMP:20260423T164054
CREATED:20180302T133156Z
LAST-MODIFIED:20260313T101721Z
UID:72180-1520035200-1520139599@www.kunstleben-berlin.de
SUMMARY:Yvon Chabrowski | Live-Performance | CASSANDRA/ BEWEGUNGSMUSTER
DESCRIPTION:Überwachungssysteme kann man oft weder sehen noch fühlen\, schmecken oder riechen. Sie sind unsichtbar und doch da. Die Live-Performance CASSANDRA / BEWEGUNGSMUSTER rekapituliert im ersten Akt die unsichtbaren Bildrahmen\, die sich um unsere Körper legen. Wann ist man im Fokus einer Kamera oder eines Algorithmus? Im zweiten Akt werden Bewegungen und Gesten performt\, mit denen Überwachungssysteme gespeist werden\, um Verhalten zu bewerten. Herausgelöst aus der Komplexität menschlicher Begegnung und reduziert auf das Bewegungsmuster\, auf welche Überwachungssysteme möglicherweise reagieren\, sind sie Fragment. CASSANDRA / BEWEGUNGSMUSTER befragt den Blick des Betrachters nach den Rahmenbedingungen von Grenzen und Freiheit. \n
URL:https://www.kunstleben-berlin.de/event/yvon-chabrowski-live-performance-cassandra-bewegungsmuster-3/
LOCATION:Dorothée Nilsson Gallery\, Potsdamer Straße 65\, Berlin\, 10785\, Deutschland
CATEGORIES:Begleitprogramm zur Ausstellung
GEO:52.5035628;13.366542
X-APPLE-STRUCTURED-LOCATION;VALUE=URI;X-ADDRESS=Dorothée Nilsson Gallery Potsdamer Straße 65 Berlin 10785 Deutschland;X-APPLE-RADIUS=500;X-TITLE=Potsdamer Straße 65:geo:13.366542,52.5035628
END:VEVENT
END:VCALENDAR