BEGIN:VCALENDAR
VERSION:2.0
PRODID:-//Kunstleben Berlin - das Kunstmagazin - ECPv4.9.13//NONSGML v1.0//EN
CALSCALE:GREGORIAN
METHOD:PUBLISH
X-WR-CALNAME:Kunstleben Berlin - das Kunstmagazin
X-ORIGINAL-URL:https://www.kunstleben-berlin.de
X-WR-CALDESC:Veranstaltungen im Kunstleben Berlin - das Kunstmagazin
BEGIN:VTIMEZONE
TZID:Europe/Berlin
BEGIN:DAYLIGHT
TZOFFSETFROM:+0100
TZOFFSETTO:+0200
TZNAME:CEST
DTSTART:20170326T010000
END:DAYLIGHT
BEGIN:STANDARD
TZOFFSETFROM:+0200
TZOFFSETTO:+0100
TZNAME:CET
DTSTART:20171029T010000
END:STANDARD
END:VTIMEZONE
BEGIN:VEVENT
DTSTART;VALUE=DATE:20170721
DTEND;VALUE=DATE:20170902
DTSTAMP:20260423T235234
CREATED:20170721T124108Z
LAST-MODIFIED:20230810T053841Z
UID:70019-1500595200-1504309140@www.kunstleben-berlin.de
SUMMARY:Zhang Wanqing - Lonely Hills
DESCRIPTION:Zhang Wanqing (geboren 1985) entschied sich trotz ihrer stetig wachsenden Bekanntheit als Künstlerin für ein abgeschiedenes Leben in Shenyang im Nordosten Chinas. Sie mied die Öffentlichkeit\, für die junge Generation chinesischer Künstler sehr ungewöhnlich\, für sie jedoch die Voraussetzung ihrer kontemplativen Art der Malerei. Die hier gezeigten Bilder sind das Resultat dieser langen Abgeschiedenheit. Lonely Hills\, so der Titel der Ausstellung\, beschreibt das Thema ihrer Bilder treffend: Landschaften und Ansichten von Hügeln und Bergen fern jeglicher Zivilisation und ohne Spuren menschlicher Existenz. \nSo lone seem the hills; there is no one in sight there\, / But whence is the echo of voice I hear? – schrieb Wang Wei\, ein berühmter Dichter der Tang Dynastie\, und heute können die Zeilen ebenso als eine vorweggenommene Deutung der Bilder Zhang Wanqings gelesen werden. Durch die Jahrhunderte hinweg ist Landschaftsmalerei immer mehr als die bloße Darstellung der Natur gewesen. Zugleich war das Genre aber auch die Projektionsfläche von Sehnsüchten\, Darstellung übersteigerter Emotionen wie der Erhabenheit oder Abbild eines idealisierten Idylls sowie unzähmbarer Naturgewalten.\nZhang Wanqing arbeitet in dieser Tradition\, wobei in ihren Bildern gleichermaßen ihre fernöstlichen Wurzeln und westliche Einflüsse sichtbar sind. Erst während des Malens nimmt die Landschaft allmählich Gestalt an: mediale Vorlagen markieren den Ausgangspunkt\, von dem an sukzessive und auf akribische Art und Weise diese zu einem Bergmassiv\, einer Weitsicht über eine Hügelkette oder zu einer schroffen Felswand anwachsen. Deren Plastizität modelliert sie regelrecht mit kleinen\, dicht nebeneinander gesetzten Pinselstrichen in die Farbe hinein. Im Detail verliert sich der Blick in dem wirbelnden Netz der feinen Malspuren\, mit der nötigen Distanz zur Leinwand eröffnet sich dem Betrachter die Schönheit und Wildnis einer durch Farbe und\nStrukturen geschaffenen Harmonie parallel zur Natur. \n
URL:https://www.kunstleben-berlin.de/event/zhang-wanqing-lonely-hills/
LOCATION:Aurel Scheibler\, Schöneberger Ufer 71\, Berlin\, 10785\, Deutschland
CATEGORIES:Ausstellung
GEO:52.50546;13.36426
X-APPLE-STRUCTURED-LOCATION;VALUE=URI;X-ADDRESS=Aurel Scheibler Schöneberger Ufer 71 Berlin 10785 Deutschland;X-APPLE-RADIUS=500;X-TITLE=Schöneberger Ufer 71:geo:13.36426,52.50546
END:VEVENT
END:VCALENDAR